BEGIN:VCALENDAR
VERSION:2.0
PRODID:-//ChamberMaster//Event Calendar 2.0//EN
METHOD:PUBLISH
X-PUBLISHED-TTL:P3D
REFRESH-INTERVAL:P3D
CALSCALE:GREGORIAN
BEGIN:VEVENT
DTSTART:20210407T140000Z
DTEND:20210407T160000Z
X-MICROSOFT-CDO-ALLDAYEVENT:FALSE
SUMMARY:2021 Annual Meeting
DESCRIPTION:10-10:20am - Sheree Anne Kelly\, President and CEO\, ACCE   \n\n  \n\n10:20-10:40am   Breakout  \n\n  \n\nProviding Value to Sponsors: What do your 2021 sponsorships look like? Are they tied to events or something else?  Facilitators: Moe Belliveau\, Greater Easthampton Chamber and Jack Lank\, United Regional Chamber \n\n\n\n The Member Benefits Pivot: What benefits have provided value during a year of virtual?  \n\nFacilitators: Kara Griffin\, Tri-Town Chamber\, Nancy Creed\, Greater Springfield Chamber and Jeannie Hebert\, Blackstone Valley Chamber\n\n \n\n10:40-10:50pm - Update from US Chamber   \n\n \n\n10:50-11:00am - Break  \n\n \n\n11:00-11:20am   Breakout  \n\n \n\nThe Program Pivot: What programs have you changed/introduced since the pandemic?  \n\nFacilitators: Rick Kidder\, One Southcoast Chamber and Chris Cooney\, Metro South Chamber\n\n\n\nMarketing: Social Media Tools & Tricks  \n\nFacilitators: Melissa Fetterhoff\, Nashoba Valley Chamber and Danielle McFadden\, Greater Lowell Chamber\n\n\n\n11:20-11:45am   Board Engagement with John Bates the "Job-Guy" \n\n \n\n11:45am-12:00pm - Induction of Board/Years of Service Awards
X-ALT-DESC;FMTTYPE=text/html:<span style="border:none windowtext 1.0pt\;padding:0in\;"><span style="color:black\;"><span style="font-family:georgia\,serif\;"><span style="font-size:12.0pt\;">10-10:20am - Sheree Anne Kelly\, President and CEO\, ACCE&nbsp\;&nbsp\;</span></span></span></span>&nbsp\;<br />\n&nbsp\;&nbsp\;<br />\n<span style="border:none windowtext 1.0pt\;padding:0in\;"><span style="color:black\;"><span style="font-family:georgia\,serif\;"><span style="font-size:12.0pt\;">10:20-10:40am &ndash\; Breakout&nbsp\;</span></span></span></span>&nbsp\;<br />\n&nbsp\;&nbsp\;<br />\n<strong><span style="border:none windowtext 1.0pt\;padding:0in\;"><span style="color:black\;"><span style="font-family:georgia\,serif\;"><span style="font-size:12.0pt\;">Providing Value to Sponsors</span></span></span></span></strong><span style="border:none windowtext 1.0pt\;padding:0in\;"><span style="color:black\;"><span style="font-family:georgia\,serif\;"><span style="font-size:12.0pt\;">: What do your 2021 sponsorships look like? Are they tied to events or something else?&nbsp\;</span></span></span></span>&nbsp\;<em><span style="border:none windowtext 1.0pt\;padding:0in\;"><span style="color:black\;"><span style="font-family:georgia\,serif\;"><span style="font-size:12.0pt\;">Facilitators</span></span></span></span></em><span style="border:none windowtext 1.0pt\;padding:0in\;"><span style="color:black\;"><span style="font-family:georgia\,serif\;"><span style="font-size:12.0pt\;">: Moe Belliveau\, Greater Easthampton Chamber and Jack Lank\, United Regional Chamber&nbsp\;</span></span></span></span><br />\n<br />\n&nbsp\;<strong><span style="border:none windowtext 1.0pt\;padding:0in\;"><span style="color:black\;"><span style="font-family:georgia\,serif\;"><span style="font-size:12.0pt\;">The Member Benefits Pivot</span></span></span></span></strong><span style="border:none windowtext 1.0pt\;padding:0in\;"><span style="color:black\;"><span style="font-family:georgia\,serif\;"><span style="font-size:12.0pt\;">: What benefits have provided value during a year of virtual?&nbsp\;</span></span></span></span>&nbsp\;<br />\n<em><span style="border:none windowtext 1.0pt\;padding:0in\;"><span style="color:black\;"><span style="font-family:georgia\,serif\;"><span style="font-size:12.0pt\;">Facilitators</span></span></span></span></em><span style="border:none windowtext 1.0pt\;padding:0in\;"><span style="color:black\;"><span style="font-family:georgia\,serif\;"><span style="font-size:12.0pt\;">: Kara Griffin\, Tri-Town Chamber\, Nancy Creed\, Greater Springfield Chamber and Jeannie Hebert\, Blackstone Valley Chamber</span></span></span></span><br />\n&nbsp\;<br />\n<span style="border:none windowtext 1.0pt\;padding:0in\;"><span style="color:black\;"><span style="font-family:georgia\,serif\;"><span style="font-size:12.0pt\;">10:40-10:50pm - Update from US Chamber &nbsp\;</span></span></span></span>&nbsp\;<br />\n&nbsp\;<br />\n<span style="border:none windowtext 1.0pt\;padding:0in\;"><span style="color:black\;"><span style="font-family:georgia\,serif\;"><span style="font-size:12.0pt\;">10:50-11:00am - Break</span></span></span></span>&nbsp\;&nbsp\;<br />\n&nbsp\;<br />\n<span style="border:none windowtext 1.0pt\;padding:0in\;"><span style="color:black\;"><span style="font-family:georgia\,serif\;"><span style="font-size:12.0pt\;">11:00-11:20am &ndash\; Breakout&nbsp\;</span></span></span></span>&nbsp\;<br />\n&nbsp\;<br />\n<strong><span style="border:none windowtext 1.0pt\;padding:0in\;"><span style="color:black\;"><span style="font-family:georgia\,serif\;"><span style="font-size:12.0pt\;">The Program Pivot</span></span></span></span></strong><span style="border:none windowtext 1.0pt\;padding:0in\;"><span style="color:black\;"><span style="font-family:georgia\,serif\;"><span style="font-size:12.0pt\;">: What programs have you changed/introduced since the pandemic?&nbsp\;</span></span></span></span>&nbsp\;<br />\n<span style="border:none windowtext 1.0pt\;padding:0in\;"><span style="color:black\;"><span style="font-family:georgia\,serif\;"><span style="font-size:12.0pt\;">Facilitators: Rick Kidder\, One Southcoast Chamber and Chris Cooney\, Metro South Chamber</span></span></span></span><br />\n<br />\n<strong style="color:inherit\;font-size:inherit\;font-style:inherit\;font-variant-ligatures:inherit\;font-variant-caps:inherit\;"><span style="border:none windowtext 1.0pt\;padding:0in\;"><span style="color:black\;"><span style="font-family:georgia\,serif\;"><span style="font-size:12.0pt\;">Marketing</span></span></span></span></strong><span style="border:none windowtext 1.0pt\;padding:0in\;"><span style="color:black\;"><span style="font-family:georgia\,serif\;"><span style="font-size:12.0pt\;">: Social Media Tools &amp\; Tricks&nbsp\;</span></span></span></span>&nbsp\;<br />\n<span style="border:none windowtext 1.0pt\;padding:0in\;"><span style="color:black\;"><span style="font-family:georgia\,serif\;"><span style="font-size:12.0pt\;">Facilitators: Melissa Fetterhoff\, Nashoba Valley Chamber and Danielle McFadden\, Greater Lowell Chamber</span></span></span></span><br />\n<br />\n<span style="border:none windowtext 1.0pt\;padding:0in\;"><span style="color:black\;"><span style="font-family:georgia\,serif\;"><span style="font-size:12.0pt\;">11:20-11:45am &ndash\; Board Engagement with John Bates the &quot\;Job-Guy&quot\;&nbsp\;</span></span></span></span><br />\n&nbsp\;<br />\n<span style="border:none windowtext 1.0pt\;padding:0in\;"><span style="color:black\;"><span style="font-family:georgia\,serif\;"><span style="font-size:12.0pt\;">11:45am-12:00pm - Induction of Board/Years of Service Awards</span></span></span></span>&nbsp\;&nbsp\;
LOCATION:Zoom Webinar Login info will be sent upon registration
UID:e.2272.1143
SEQUENCE:3
DTSTAMP:20260421T072041Z
URL:http://business.macce.org/events/details/2021-annual-meeting-1143
END:VEVENT

END:VCALENDAR
