BEGIN:VCALENDAR
VERSION:2.0
PRODID:-//ChamberMaster//Event Calendar 2.0//EN
METHOD:PUBLISH
X-PUBLISHED-TTL:P3D
REFRESH-INTERVAL:P3D
CALSCALE:GREGORIAN
BEGIN:VEVENT
DTSTART;VALUE=DATE:20150811
DTEND;VALUE=DATE:20150815
TRANSP:TRANSPARENT
X-MICROSOFT-CDO-ALLDAYEVENT:TRUE
SUMMARY:ACCE Convention - Montreal
DESCRIPTION:http://www.acce.org/
X-ALT-DESC;FMTTYPE=text/html:http://www.acce.org/<br />\n<br />\n&nbsp\;
LOCATION:
UID:e.2272.10
SEQUENCE:3
DTSTAMP:20260426T000225Z
URL:http://business.macce.org/events/details/acce-convention-montreal-08-11-2015-10
END:VEVENT

END:VCALENDAR
