BEGIN:VCALENDAR
VERSION:2.0
PRODID:-//ChamberMaster//Event Calendar 2.0//EN
METHOD:PUBLISH
X-PUBLISHED-TTL:P3D
REFRESH-INTERVAL:P3D
CALSCALE:GREGORIAN
BEGIN:VEVENT
DTSTART:20160401T120000Z
DTEND:20160401T183000Z
X-MICROSOFT-CDO-ALLDAYEVENT:FALSE
SUMMARY:Annual Meeting 2016
DESCRIPTION:The Annual Meeting's keynote speaker is Jeff Kenney\, an internationally known Author of the wildly successful children's books "Diary of a Wimpy Kid." He is also an American Game Designer\, Cartoonist\, Producer\, and Actor. Additionally\, he is attributed as the creator of the child-oriented website Poptropica.\n\n\n\nJeff will share his experience opening a bookstore called "An Unlikely Story" housed in a historic building in his adopted hometown of Plainville\, MA. There Jeff invested millions into the renovations\, construction and the entrepreneurial skills necessary to create a sustainable business - one that could have a ripple effect and help revitalize the former manufacturing town.\nProgram of Events:\n\n8:00 - 9:00am: Registration\n\n9:00 - 9:15am: Opening remarks\n\n9:15 - 10:15am: Energy panel discussion with Massachusetts Department of Energy Resources Commissioner Judith Judson\,  Peter Rothstein from CICE\, Carolyn O'Connor\, Director of External Affairs at Hydro Qu bec\, and other industry professionals.\n\n10:15 - 10:30am: Coffee break\n\n10:30am - Noon: Breakout sessions:\n\nWhy Your Website is Not Working! \n\nDevon Cameron\, Envision Digital\n\n \n\nStrategies to Increase and Retain Memberships\n\nKham Inthirath\, Founder of Envision Digital \n\n\n\n12:15 - 1:45pm: Lunch and Keynote Speaker Jeff Kinney\n\n1:45 - 2:30pm: Auction and Awards\n\n\n\nBoard Meeting:\n\nThe MACCE Board Meeting will take place at 6:00pm Thursday evening at Slacks Oyster House & Grill\, located within the Casino. All who plan to attend the meeting must RSVP to Melissa at Melissa@nvoc.com.
X-ALT-DESC;FMTTYPE=text/html:<span style="font-size:12px\;"><span style="font-family:arial\;">The Annual Meeting&#39\;s keynote speaker is&nbsp\;<span style="line-height: normal\;">Jeff Kenney\, an internationally known Author of the wildly successful children&#39\;s books &quot\;Diary of a Wimpy Kid.&quot\; He is also an American Game Designer\, Cartoonist\, Producer\, and Actor. Additionally\, he is attributed as the creator of the child-oriented website Poptropica.</span></span></span><br />\n<br />\nJeff will share his experience opening a bookstore called &quot\;An Unlikely Story&quot\; housed in a historic building in his adopted hometown of&nbsp\;Plainville\, MA. There Jeff invested millions into the renovations\, construction and the entrepreneurial skills necessary to create a sustainable business - one that could have a ripple effect and help revitalize the former manufacturing town.\n<p style="line-height: 20.8px\;"><strong>Program of Events:</strong><br />\n8:00 - 9:00am: Registration<br />\n9:00 - 9:15am: Opening remarks<br />\n9:15 - 10:15a<span style="font-family:arial\;"><span style="font-size:12px\;">m</span></span><span style="font-family:arial\;"><span style="font-size:12px\;">:<span style="font-size:14px\;"> Energy panel discussion with&nbsp\;Massachusetts Department of Energy Resources Commissioner Judith Judson\, &nbsp\;Peter&nbsp\;Rothstein&nbsp\;from&nbsp\;CICE\, Carolyn O&#39\;Connor\, Director of External Affairs at </span></span></span><span style="color: rgb(34\, 34\, 34)\; font-family: arial\, sans-serif\; font-size: 14px\; line-height: 16px\; white-space: nowrap\;">Hydro&#8209\;Qu&eacute\;bec</span><span style="font-family:arial\;"><span style="font-size:12px\;"><span style="font-size:14px\;">\, and other industry professionals.</span><br />\n<span style="font-size:14px\;">10:15 - 10:30am: Coffee break</span></span></span><br />\n10:30am&nbsp\;- Noon: Breakout sessions:</p>\n\n<p style="line-height: 20.8px\;"><em>Why Your Website is Not Working!</em>&nbsp\;<br />\nDevon Cameron\, Envision Digital<br />\n&nbsp\;<br />\n<em>Strategies to Increase and Retain Memberships</em><br />\nKham&nbsp\;Inthirath\, Founder of Envision Digital&nbsp\;<br />\n<br />\n12:15 - 1:45pm: Lunch and Keynote Speaker Jeff Kinney<br />\n1:45 - 2:30pm: Auction and Awards<br />\n<br />\n<strong>Board Meeting:</strong><br />\nThe MACCE&nbsp\;Board Meeting will take place at 6:00pm&nbsp\;Thursday&nbsp\;evening at&nbsp\;<a href="http://www.plainridgeparkcasino.com/dining/Slacks-Oyster-House">Slacks Oyster House &amp\; Grill</a>\, located within the Casino. All who plan to attend the meeting must RSVP to Melissa at&nbsp\;<a href="mailto:Melissa@nvoc.com">Melissa@nvoc.com</a>.</p>\n
LOCATION:Plainridge Park Casino 301 Washington Street\, Plainville\, MA 02762 For overnight accommodations\, please contact The Holiday Inn Express\, located at 164 Washington Street in Plainville.To receive the discounted room fee\, please mention they keyword "MACCE meeting." Please note: The special MACCE rate is only available through Friday\, March 25th. Parking: Attendees may enter through the Racing Entrance and park in the Racing Lot. Once parked\, take the elevator across the lobby to the second floor function room. Signs will be posted.
UID:e.2272.23
SEQUENCE:3
DTSTAMP:20260425T115104Z
URL:http://business.macce.org/events/details/annual-meeting-2016-04-01-2016-23
END:VEVENT

END:VCALENDAR
