BEGIN:VCALENDAR
VERSION:2.0
PRODID:-//ChamberMaster//Event Calendar 2.0//EN
METHOD:PUBLISH
X-PUBLISHED-TTL:P3D
REFRESH-INTERVAL:P3D
CALSCALE:GREGORIAN
BEGIN:VEVENT
DTSTART:20170407T123000Z
DTEND:20170407T183000Z
X-MICROSOFT-CDO-ALLDAYEVENT:FALSE
SUMMARY:Annual Meeting 2017
DESCRIPTION:The 2017 MACCE Annual Meeting Keynote Speaker will be Jay Ash\, Secretary of Housing and Economic Development for the Commonwealth of Massachusetts.\n\n\n\nAgenda:\n\n8:00 - 9:00am: Registration and Breakfast\n\n \n\n9:00 - 9:15am: Opening Remarks/Presentation of Slate of Officers \n\n	Jeannie Hebert\, MACCE President\, 2016-2017\n\n9:15 - 10:30am: Legislative Updates\n\n\n	Bill Vernon\, NFIB\, National Federation of Independent Businesses) \n	John Hurst\, RAM\, (Retailers Association of Massachusetts) \n	AIM\, Associated Industries of Massachusetts\n\nModerator\, Marie Oliva\, Cape Cod Canal Region Chamber\n\n \n\n   10:30-10:45am: Coffee break\n\n \n\n   10:45-Noon: Breakout Sessions\n\n\n	The CEO Roundtable   It's Lonely at the Top!\n\nWill Shain\, The Alternative Board (TAB)\n\n\n	Tiered Dues Memberships\n\nMarie Oliva\, Cape Cod Canal Region Chamber\n\nJack Lank\, United Regional Chamber\n\n \n\n   12:15 - 1:45pm: Lunch and Keynote Address\n\n\n	Jay Ash\, Secretary of Housing & Community Development\n\n    1:45- 2:30pm:  Auction and Awards Presentation
X-ALT-DESC;FMTTYPE=text/html:<span style="color:#000000\;">The 2017 MACCE Annual Meeting Keynote Speaker will be Jay Ash\, Secretary of Housing and Economic Development for the Commonwealth of Massachusetts.<br />\n<br />\n<span style="font-size:14px\;"><strong><u>Agenda:</u></strong></span></span><br />\n<strong><span style="font-family:calibri\,sans-serif\;">8:00 - 9:00am:</span></strong><strong> Registration and Breakfast</strong><br />\n&nbsp\;<br />\n<strong><span style="font-family:calibri\,sans-serif\;">9:00 - 9:15am:</span></strong><strong> Opening Remarks/Presentation of Slate of Officers </strong>\n<ul>\n	<li style="margin-top:0in\;margin-right:0in\;margin-bottom:3.75pt\;"><strong><span style="font-family:calibri\,sans-serif\;">Jeannie Hebert\, MACCE President\, 2016-2017</span></strong></li>\n</ul>\n<strong><span style="font-family:calibri\,sans-serif\;">9:15 - 10:30am:</span></strong><strong> Legislative Updates</strong>\n\n<ul>\n	<li><strong>Bill Vernon\, NFIB\, National Federation of Independent Businesses) </strong></li>\n	<li><strong>John Hurst\, RAM\, (Retailers Association of Massachusetts) </strong></li>\n	<li><strong>AIM\, Associated Industries of Massachusetts</strong></li>\n</ul>\n<strong>Moderator\, Marie Oliva\, Cape Cod Canal Region Chamber</strong><br />\n&nbsp\;<br />\n<strong>&nbsp\;&nbsp\; <strong><span style="font-family:calibri\,sans-serif\;">10:30-10:45am:</span></strong> Coffee break</strong><br />\n&nbsp\;<br />\n<strong>&nbsp\;&nbsp\; 10:45-Noon: Breakout Sessions</strong>\n\n<ul>\n	<li style="margin-top:0in\;margin-right:0in\;margin-bottom:3.75pt\;"><strong>The CEO </strong><em><strong><span style="font-style:normal\;"><span style="font-family:calibri\,sans-serif\;">Roundtable &ndash\; It&rsquo\;s Lonely at the Top!</span></span></strong></em></li>\n</ul>\n<strong>Will Shain\, The Alternative Board (TAB)</strong>\n\n<ul>\n	<li style="margin-top:0in\;margin-right:0in\;margin-bottom:3.75pt\;"><strong>Tiered Dues Memberships</strong></li>\n</ul>\n<strong>Marie Oliva\, Cape Cod Canal Region Chamber</strong><br />\n<strong>Jack Lank\, United Regional Chamber</strong><br />\n&nbsp\;<br />\n&nbsp\;&nbsp\; <em><strong><span style="font-style:normal\;"><span style="font-family:calibri\,sans-serif\;">1</span></span></strong></em><strong><span style="font-family:calibri\,sans-serif\;">2:15 - 1:45pm:</span></strong><strong> Lunch and Keynote Address</strong>\n\n<ul>\n	<li><strong>Jay Ash\, Secretary of Housing &amp\; Community Development</strong></li>\n</ul>\n<strong>&nbsp\;&nbsp\;&nbsp\; 1:45- 2:30pm:&nbsp\; Auction and Awards Presentation</strong>
LOCATION:Accommodations are available at the Marriott's TownePlace Suites\, Mention MACCE for discount\, room rate is $109 plus tax (down from $149). Registration will take place at the Rosebrook Event Center\, adjacent to the TownePlace Suites 50 Rosebrook Place\, Wareham
UID:e.2272.45
SEQUENCE:3
DTSTAMP:20260424T171933Z
URL:http://business.macce.org/events/details/annual-meeting-2017-45
END:VEVENT

END:VCALENDAR
