BEGIN:VCALENDAR
VERSION:2.0
PRODID:-//ChamberMaster//Event Calendar 2.0//EN
METHOD:PUBLISH
X-PUBLISHED-TTL:P3D
REFRESH-INTERVAL:P3D
CALSCALE:GREGORIAN
BEGIN:VEVENT
DTSTART:20190405T123000Z
DTEND:20190405T190000Z
X-MICROSOFT-CDO-ALLDAYEVENT:FALSE
SUMMARY:Annual Meeting 2019
DESCRIPTION:Mark your calendar now for the MACCE Annual Meeting. On Friday\, April 5th Chamber professionals from around the state will gather to share ideas\, network and hear from inspiring speakers.\n\n\n\nYou will leave this conference with the tools you need to re-energize your Chamber!\n\n\n\nClick here for Conference Flyer
X-ALT-DESC;FMTTYPE=text/html:<span style="font-size:16px\;">Mark your calendar now for the MACCE Annual Meeting. On Friday\, April 5th Chamber professionals from around the state will gather to share ideas\, network and hear from inspiring speakers.</span><br />\n<br />\n<span style="font-size:16px\;">You will leave this conference with the tools you need to re-energize your Chamber!</span><br />\n<br />\n<a href="https://chambermaster.blob.core.windows.net/userfiles/UserFiles/chambers/2272/File/MACCE_AnnualMtg2019.pdf">Click here for Conference Flyer</a>
LOCATION:The Holiday Inn Mansfield 31 Hampshire Street\, Mansfield\, MA Special room rate of $119.00 Click to book room - if prompted the code is MAC
UID:e.2272.80
SEQUENCE:3
DTSTAMP:20260423T003932Z
URL:http://business.macce.org/events/details/annual-meeting-2019-80
END:VEVENT

END:VCALENDAR
