BEGIN:VCALENDAR
VERSION:2.0
PRODID:-//ChamberMaster//Event Calendar 2.0//EN
METHOD:PUBLISH
X-PUBLISHED-TTL:P3D
REFRESH-INTERVAL:P3D
CALSCALE:GREGORIAN
BEGIN:VEVENT
DTSTART:20220401T120000Z
DTEND:20220401T190000Z
X-MICROSOFT-CDO-ALLDAYEVENT:FALSE
SUMMARY:Annual Meeting 2022
DESCRIPTION:Mark your calendar now for the MACCE Annual Meeting. On Friday\, April 1st. Chamber professionals from around the state will gather to share ideas\, network and hear from inspiring speakers.\n\n\n\nYou will leave this conference with the tools you need to re-energize your Chamber!\n\n\n\nJoin us for a Networking Night March 31 @ 7:30 p.m.
X-ALT-DESC;FMTTYPE=text/html:<span style="font-size:16px\;">Mark your calendar now for the MACCE Annual Meeting. On Friday\, April 1st. Chamber professionals from around the state will gather to share ideas\, network and hear from inspiring speakers.</span><br />\n<br />\n<span style="font-size:16px\;">You will leave this conference with the tools you need to re-energize your Chamber!</span><br />\n<br />\n<span style="font-size:14px\;">Join us for a Networking Night March 31 @ 7:30 p.m.</span>
LOCATION:Sheraton Springfield Monarch Place Hotel One Monarch Place\, Springfield Special room rate of $139 (plus taxes) 413-781-1010 and indicate you are with MACCE to received discounted room rate.
UID:e.2272.1163
SEQUENCE:3
DTSTAMP:20260420T094639Z
URL:http://business.macce.org/events/details/annual-meeting-2022-1163
END:VEVENT

END:VCALENDAR
