BEGIN:VCALENDAR
VERSION:2.0
PRODID:-//ChamberMaster//Event Calendar 2.0//EN
METHOD:PUBLISH
X-PUBLISHED-TTL:P3D
REFRESH-INTERVAL:P3D
CALSCALE:GREGORIAN
BEGIN:VEVENT
DTSTART:20230414T120000Z
DTEND:20230414T193000Z
X-MICROSOFT-CDO-ALLDAYEVENT:FALSE
SUMMARY:Annual Meeting 2023
DESCRIPTION:Register now for the MACCE Annual Meeting. On Friday\, April 14th Chamber professionals from around the state will gather to share ideas\, network and hear from inspiring speakers.\n\n\n\nYou will leave this conference with the tools you need to tell the story of your Chamber!\n\n\n\nWrite Your Own Story: Move from Storytelling to Story Making\n\n \n\n7:45am Registration and Breakfast\n\n \n\n8:30 Welcome Moe Belliveau\, MACCE President\n\n \n\n8:35 Health Connector Sponsor Moment\n\n \n\n 8:35   9:35 Telling your story through social media\, Chris Conway\, President\, West Hartford Chamber\n\n \n\n9:35   9:40 Hampshire County Regional Tourism Sponsor Moment\n\n \n\n9:40 9:55 Break\n\n \n\n9:55   10:55 What story are you telling? Lindsey Slater\, Director\, Communications & Story Telling\, ACCE  \n\n \n\n10:55   11:00 South Coast RTC Sponsor Moment\n\n \n\n11:00   12:00 Panel: Moderated by Rick Kidder\, One SouthCoast \n\nThe Story of Arts & Culture as an economic tool\n\n                Pasqualina Azzarello\, Art Coordinator\, Easthampton City Arts\n\n                Ashley Occhino of Fall River Arts and Culture \n\n                Molly Demeulenaere\, Executive Director\, Cultural Center of Cape Cod\n\n \n\n12:00-12:45 Lunch\n\n  \n\n12:45   1:45 Keynote Speaker: Glenn Shepard\, Glenn Shepard Seminars\n\n \n\n1:45   2:00 break\n\n \n\n2:00   2:30 Awards\, Election of the Board\, Bylaws Amendment\n\n \n\n2:30   3:15: Yvonne Hao\, Secretary\, Massachusetts Office of Economic Development\n\n \n\n3:15 Closing Remarks
X-ALT-DESC;FMTTYPE=text/html:<span style="font-size:16px\;">Register now for the MACCE Annual Meeting. On Friday\, April 14th Chamber professionals from around the state will gather to share ideas\, network and hear from inspiring speakers.</span><br />\n<br />\n<span style="font-size:16px\;">You will leave this conference with the tools you need to tell the story of your Chamber!<br />\n<br />\n<strong>Write Your Own Story: Move from Storytelling to Story Making</strong><br />\n&nbsp\;</span><br />\n7:45am Registration and Breakfast<br />\n&nbsp\;<br />\n8:30 Welcome Moe Belliveau\, MACCE President<br />\n&nbsp\;<br />\n8:35 Health Connector Sponsor Moment<br />\n&nbsp\;<br />\n&nbsp\;8:35 &ndash\; 9:35 Telling your story through social media\, Chris Conway\, President\, West Hartford Chamber<br />\n&nbsp\;<br />\n9:35 &ndash\; 9:40 Hampshire County Regional Tourism Sponsor Moment<br />\n&nbsp\;<br />\n9:40 9:55 Break<br />\n&nbsp\;<br />\n9:55 &ndash\; 10:55 What story are you telling? Lindsey Slater\, Director\, Communications &amp\; Story Telling\, ACCE &nbsp\;<br />\n&nbsp\;<br />\n10:55 &ndash\; 11:00 South Coast RTC Sponsor Moment<br />\n&nbsp\;<br />\n11:00 &ndash\; 12:00 Panel: Moderated by Rick Kidder\, One SouthCoast&nbsp\;<br />\nThe Story of Arts &amp\; Culture as an economic tool<br />\n&nbsp\;&nbsp\;&nbsp\;&nbsp\;&nbsp\;&nbsp\;&nbsp\;&nbsp\;&nbsp\;&nbsp\;&nbsp\;&nbsp\;&nbsp\;&nbsp\;&nbsp\; Pasqualina Azzarello\, Art Coordinator\, Easthampton City Arts<br />\n&nbsp\; &nbsp\; &nbsp\; &nbsp\; &nbsp\; &nbsp\; &nbsp\; &nbsp\;&nbsp\;<span style="font-size:14px\;"><span style="font-family:arial\;">Ashley Occhino of Fall River Arts and Culture&nbsp\;</span></span><br />\n&nbsp\;&nbsp\;&nbsp\;&nbsp\;&nbsp\;&nbsp\;&nbsp\;&nbsp\;&nbsp\;&nbsp\;&nbsp\;&nbsp\;&nbsp\;&nbsp\;&nbsp\; Molly Demeulenaere\, Executive Director\, Cultural Center of Cape Cod<br />\n&nbsp\;<br />\n12:00-12:45 Lunch<br />\n&nbsp\;&nbsp\;<br />\n12:45 &ndash\; 1:45 Keynote Speaker: Glenn Shepard\, Glenn Shepard Seminars<br />\n&nbsp\;<br />\n1:45 &ndash\; 2:00 break<br />\n&nbsp\;<br />\n2:00 &ndash\; 2:30 Awards\, Election of the Board\, Bylaws Amendment<br />\n&nbsp\;<br />\n2:30 &ndash\; 3:15: Yvonne Hao\, Secretary\, Massachusetts Office of Economic Development<br />\n&nbsp\;<br />\n3:15 Closing Remarks<br />\n&nbsp\;
LOCATION:The Hotel Northampton 36 King Street\, Northampton Special room rate of $139 (plus taxes) http://www.hotelnorthampton.com/ Reserve your room by calling the hotel directly at 413-584-3100 and request for the block name: MACCE Annual meeting\; or provide the block code: 041223ANNU
UID:e.2272.1180
SEQUENCE:3
DTSTAMP:20260419T140819Z
URL:http://business.macce.org/events/details/annual-meeting-2023-1180
END:VEVENT

END:VCALENDAR
