BEGIN:VCALENDAR
VERSION:2.0
PRODID:-//ChamberMaster//Event Calendar 2.0//EN
METHOD:PUBLISH
X-PUBLISHED-TTL:P3D
REFRESH-INTERVAL:P3D
CALSCALE:GREGORIAN
BEGIN:VEVENT
DTSTART;VALUE=DATE:20171113
DTEND;VALUE=DATE:20171115
TRANSP:TRANSPARENT
X-MICROSOFT-CDO-ALLDAYEVENT:TRUE
SUMMARY:Annual NEACCE Conference
DESCRIPTION:EVENT DETAILS and registration at http://www.neacce.com/annual-neacce-conference\n\n \n\n \nAnnual NEACCE Conference:\n\nProfessional Development at Its Best\n\nThe annual NEACCE Conference is your opportunity to expand your professional development while connecting with Chamber professionals to share ideas and best practices.  The conference is held at a different location within New England so you can discover all that we have to offer.  Bring your staff and join us.\n\n \n\nNovember 13 - 14\, 2017  -  Windsor\, CT\n\nHighlights:\n\nKeynote Speaker: Consul General for New England\, David Alward \n\nConsul General David Alward will discuss the importance of trade between the US and Canada. With over $30 billion of trade between New England and Canada in 2016 and over 430\,000 jobs in New England being dependent on trade with Canada\, the trade relationship with Canada is of the utmost importance to New England companies and the regional economy. Canada's Consul General to New England David Alward will be speaking on this relationship in order to help Chamber executives and their member companies to learn how to successfully partner with Canadian firms and why state\, regional and federal trade policies should continue ensure the smooth flow of goods and business people in an effort to strengthen both of our economies.\n\nPanel Discussion: Economic Challenges Facing New England States\n\nLeaders of state chambers and business associations will provide their perspective on issues of mutual concern to chamber members throughout New England. These issues include workforce availability and skill\, demographic headwinds\, and the high cost of electrical energy.\n\nKeys to Teamwork: Inspiring and Motivating High Performers\n\nCoach explains that\, "to succeed as a group\, the individuals truly need to buy into the concept that they are a member of a family where all the family members must have each other's backs. You must give all\, and never give into the moment\, because your teammates are driving through for you." Through storytelling and a note of humor\, Coach Assaiante inspires winning teams and audiences.\n\n60 Ideas in 60 Minutes\n\nJoin us for this fast paced\, fun\, interactive session to hear 60 great ideas in 60 minutes. Share great ideas you have implemented at your Chamber! Hear how to create a positive impact by generating revenue\, engaging members\, providing great exposure and more! All attendees will receive the list of ideas. Participants will have 60 seconds to share their ideas in front of our panel of judges for a chance to win prizes!\n\nLocation:\n\nHotel:  Hartford Windsor Marriott\, 28 Day Hill Road\, Windsor\, CT 06095 - call 860-688-7500 and mention "2017 NEACCE Group Rate" or click here to get the special $139/night rate\n\nChamber:  Windsor\, CT     \n\nTown:  About Windsor\, CT
X-ALT-DESC;FMTTYPE=text/html:EVENT DETAILS and registration at&nbsp\;<a href="http://www.neacce.com/annual-neacce-conference">http://www.neacce.com/annual-neacce-conference<br />\n&#8203\;</a><br />\n&nbsp\;\n<h1 style="box-sizing: border-box\; margin: 20px 0px 10px\; font-size: 36px\; font-family: Calibri\, Verdana\, Geneva\, sans-serif\; line-height: 1.1\;">Annual NEACCE Conference:<br style="box-sizing: border-box\;" />\nProfessional Development at Its Best</h1>\n\n<p style="box-sizing: border-box\; margin: 0px 0px 10px\; font-family: Calibri\, Verdana\, Geneva\, sans-serif\; font-size: 16px\;">The&nbsp\;annual NEACCE Conference is your opportunity to expand your professional development while connecting with Chamber professionals to share ideas and best practices. &nbsp\;The conference is held at a different location within New England so you can discover all that we have to offer. &nbsp\;Bring your staff and join us.</p>\n\n<p style="box-sizing: border-box\; margin: 0px 0px 10px\; font-family: Calibri\, Verdana\, Geneva\, sans-serif\; font-size: 16px\;">&nbsp\;</p>\n\n<h2 style="box-sizing: border-box\; font-family: Calibri\, Verdana\, Geneva\, sans-serif\; line-height: 1.1\; margin-top: 20px\; margin-bottom: 10px\; font-size: 30px\;"><strong style="box-sizing: border-box\;">November 13 - 14\, 2017&nbsp\; -&nbsp\;&nbsp\;Windsor\, CT</strong></h2>\n\n<h3 style="box-sizing: border-box\; font-family: Calibri\, Verdana\, Geneva\, sans-serif\; line-height: 1.1\; margin-top: 20px\; margin-bottom: 10px\; font-size: 24px\;"><b style="box-sizing: border-box\;">Highlights:</b></h3>\n\n<p style="box-sizing: border-box\; margin: 0px 0px 10px\; font-family: Calibri\, Verdana\, Geneva\, sans-serif\; font-size: 16px\;"><strong style="box-sizing: border-box\;">Keynote Speaker:&nbsp\;Consul General&nbsp\;for New England\,&nbsp\;David Alward&nbsp\;</strong></p>\n\n<p style="box-sizing: border-box\; margin: 0px 0px 10px 1in\; font-family: Calibri\, Verdana\, Geneva\, sans-serif\; font-size: 16px\;">Consul General David Alward will discuss the importance of trade between the US and Canada. With over $30 billion of trade between New England and Canada in 2016 and over 430\,000 jobs in New England being dependent on trade with Canada\, the trade relationship with Canada is of the utmost importance to New England companies and the regional economy. Canada&rsquo\;s Consul General to New England David Alward will be speaking on this relationship in order to help Chamber executives and their member companies to learn how to successfully partner with Canadian firms and why state\, regional and federal trade policies should continue ensure the smooth flow of goods and business people in an effort to strengthen both of our economies.</p>\n\n<p style="box-sizing: border-box\; margin: 0px 0px 10px\; font-family: Calibri\, Verdana\, Geneva\, sans-serif\; font-size: 16px\;"><strong style="box-sizing: border-box\;">Panel Discussion: Economic Challenges Facing New England States</strong></p>\n\n<p style="box-sizing: border-box\; margin: 0px 0px 10px 1in\; font-family: Calibri\, Verdana\, Geneva\, sans-serif\; font-size: 16px\;">Leaders of state chambers and business associations will provide their perspective on issues of mutual concern to chamber members throughout New England. These issues include workforce availability and skill\, demographic headwinds\, and the high cost of electrical energy.</p>\n\n<p style="box-sizing: border-box\; margin: 0px 0px 10px\; font-family: Calibri\, Verdana\, Geneva\, sans-serif\; font-size: 16px\;"><strong style="box-sizing: border-box\;">Keys to Teamwork: Inspiring and Motivating High Performers</strong></p>\n\n<p style="box-sizing: border-box\; margin: 0px 0px 10px 1in\; font-family: Calibri\, Verdana\, Geneva\, sans-serif\; font-size: 16px\;">Coach explains that\, &ldquo\;to succeed as a group\, the individuals truly need to buy into the concept that they are a member of a family where all the family members must have each other&rsquo\;s backs. You must give all\, and never give into the moment\, because your teammates are driving through for you.&rdquo\; Through storytelling and a note of humor\, Coach Assaiante inspires winning teams and audiences.</p>\n\n<p style="box-sizing: border-box\; margin: 0px 0px 10px\; font-family: Calibri\, Verdana\, Geneva\, sans-serif\; font-size: 16px\;"><strong style="box-sizing: border-box\;">60 Ideas in 60 Minutes</strong></p>\n\n<p style="box-sizing: border-box\; margin: 0px 0px 10px 1in\; font-family: Calibri\, Verdana\, Geneva\, sans-serif\; font-size: 16px\;">Join us for this fast paced\, fun\, interactive session to hear 60 great ideas in 60 minutes. Share great ideas you have implemented at your Chamber! Hear how to create a positive impact by generating revenue\, engaging members\, providing great exposure and more! All attendees will receive the list of ideas. Participants will have 60 seconds to share their ideas in front of our panel of judges for a chance to win prizes!</p>\n\n<h3 style="box-sizing: border-box\; font-family: Calibri\, Verdana\, Geneva\, sans-serif\; line-height: 1.1\; margin-top: 20px\; margin-bottom: 10px\; font-size: 24px\;"><b style="box-sizing: border-box\;">Location:</b></h3>\n\n<p style="box-sizing: border-box\; margin: 0px 0px 10px\; font-family: Calibri\, Verdana\, Geneva\, sans-serif\; font-size: 16px\;"><strong style="box-sizing: border-box\;">Hotel:</strong>&nbsp\;&nbsp\;<a href="https://www.windsorcc.org/system/mailinglists/Directory/41445561364/address.htm" style="box-sizing: border-box\; background-color: transparent\; color: rgb(2\, 56\, 90)\; text-decoration-line: none\;" target="_blank">Hartford Windsor Marriott</a>\,&nbsp\;28 Day Hill Road\, Windsor\, CT 06095 - call 860-688-7500 and mention &quot\;2017 NEACCE Group Rate&quot\; or&nbsp\;<a href="http://www.marriott.com/meeting-event-hotels/group-corporate-travel/groupCorp.mi?resLinkData=2017%20NEACCE%20Conference%5EBDLAP%60WNCWNCA%60139.00%60USD%60false%604%6011/12/17%6011/14/17%6010/30/17&amp\;app=resvlink&amp\;stop_mobi=yes" style="box-sizing: border-box\; background-color: transparent\; color: rgb(2\, 56\, 90)\; text-decoration-line: none\;" target="_blank">click here</a>&nbsp\;to get the special $139/night rate</p>\n\n<p style="box-sizing: border-box\; margin: 0px 0px 10px\; font-family: Calibri\, Verdana\, Geneva\, sans-serif\; font-size: 16px\;"><strong style="box-sizing: border-box\;">Chamber:</strong>&nbsp\;&nbsp\;<a href="http://windsorcc.org/" style="box-sizing: border-box\; background-color: transparent\; color: rgb(2\, 56\, 90)\; text-decoration-line: none\;" target="_blank">Windsor\, CT</a>&nbsp\; &nbsp\; &nbsp\;<br style="box-sizing: border-box\;" />\n<strong style="box-sizing: border-box\;">Town:</strong>&nbsp\;&nbsp\;<a href="http://townofwindsorct.com/" style="box-sizing: border-box\; background-color: transparent\; color: rgb(2\, 56\, 90)\; text-decoration-line: none\;" target="_blank">About Windsor\, CT</a></p>\n
LOCATION:Hotel: Hartford Windsor Marriott\, 28 Day Hill Road\, Windsor\, CT 06095 - call 860-688-7500 and mention "2017 NEACCE Group Rate" or click here to get the special $139/night rate Chamber: Windsor\, CT Town: About Windsor\, CT
UID:e.2272.55
SEQUENCE:3
DTSTAMP:20260424T061203Z
URL:http://business.macce.org/events/details/annual-neacce-conference-55
END:VEVENT

END:VCALENDAR
