BEGIN:VCALENDAR
VERSION:2.0
PRODID:-//ChamberMaster//Event Calendar 2.0//EN
METHOD:PUBLISH
X-PUBLISHED-TTL:P3D
REFRESH-INTERVAL:P3D
CALSCALE:GREGORIAN
BEGIN:VEVENT
DTSTART;VALUE=DATE:20150918
DTEND;VALUE=DATE:20150919
TRANSP:TRANSPARENT
X-MICROSOFT-CDO-ALLDAYEVENT:TRUE
SUMMARY:Board Meeting - 09/18/2015
DESCRIPTION:to follow MACCE Council meeting
X-ALT-DESC;FMTTYPE=text/html:to follow MACCE Council meeting
LOCATION:
UID:e.2272.15
SEQUENCE:3
DTSTAMP:20260425T224328Z
URL:http://business.macce.org/events/details/board-meeting-09-18-2015-09-18-2015-15
END:VEVENT

END:VCALENDAR
