BEGIN:VCALENDAR
VERSION:2.0
PRODID:-//ChamberMaster//Event Calendar 2.0//EN
METHOD:PUBLISH
X-PUBLISHED-TTL:P3D
REFRESH-INTERVAL:P3D
CALSCALE:GREGORIAN
BEGIN:VEVENT
DTSTART;VALUE=DATE:20151002
DTEND;VALUE=DATE:20151003
TRANSP:TRANSPARENT
X-MICROSOFT-CDO-ALLDAYEVENT:TRUE
SUMMARY:Board Meeting - 10/02/2015
DESCRIPTION:MACCE Board Meeting\n\n\n\nFollows Council of Chambers Meeting at Embassy Suites \n\n\n\n10am
X-ALT-DESC;FMTTYPE=text/html:MACCE Board Meeting<br />\n<br />\nFollows Council of Chambers Meeting at Embassy Suites&nbsp\;<br />\n<br />\n10am<br />\n<br />\n&nbsp\;
LOCATION:
UID:e.2272.20
SEQUENCE:3
DTSTAMP:20260425T210012Z
URL:http://business.macce.org/events/details/board-meeting-10-02-2015-10-02-2015-20
END:VEVENT

END:VCALENDAR
