BEGIN:VCALENDAR
VERSION:2.0
PRODID:-//ChamberMaster//Event Calendar 2.0//EN
METHOD:PUBLISH
X-PUBLISHED-TTL:P3D
REFRESH-INTERVAL:P3D
CALSCALE:GREGORIAN
BEGIN:VEVENT
DTSTART:20211217T190000Z
DTEND:20211217T200000Z
X-MICROSOFT-CDO-ALLDAYEVENT:FALSE
SUMMARY:Chamber CEO Cocktails & Chat
DESCRIPTION:Join us for a cocktail .... bring your own of course!\n\nPlan for videos on as we stay connected with each other during this crazy time.  \n\n\n\nEach meeting we'll have a "chat topic" - this month we'll discuss and share with each other about "Financials" (what financials do you provide\, training\, etc).  \n\n\n\nRegister for link
X-ALT-DESC;FMTTYPE=text/html:Join us for a cocktail .... bring your own of course!<br />\nPlan for videos on as we stay connected with each other during this crazy time.&nbsp\;&nbsp\;<br />\n<br />\nEach meeting we&#39\;ll have a &quot\;chat topic&quot\; - this month we&#39\;ll discuss and share with each other about &quot\;Financials&quot\; (what financials do you provide\, training\, etc).&nbsp\;&nbsp\;<br />\n<br />\nRegister for link
LOCATION:
UID:e.2272.1158
SEQUENCE:3
DTSTAMP:20260420T171846Z
URL:http://business.macce.org/events/details/chamber-ceo-cocktails-chat-1158
END:VEVENT

END:VCALENDAR
