BEGIN:VCALENDAR
VERSION:2.0
PRODID:-//ChamberMaster//Event Calendar 2.0//EN
METHOD:PUBLISH
X-PUBLISHED-TTL:P3D
REFRESH-INTERVAL:P3D
CALSCALE:GREGORIAN
BEGIN:VEVENT
DTSTART:20220328T160000Z
DTEND:20220328T170000Z
X-MICROSOFT-CDO-ALLDAYEVENT:FALSE
SUMMARY:Chamber Exchange
DESCRIPTION:Chamber Exchange is an opportunity to network and share resources with your Chamber peers. \n\n\n\nMake sure to have your video on - the purpose is for us to make connections with our peers while sharing resources.   \n\n\n\nRegister in advance to receive the zoom meeting link. \n\n\n\nSend agenda requests to melissa@nvcoc.com. \n\n\n\nAgenda (thus far):
X-ALT-DESC;FMTTYPE=text/html:Chamber Exchange is an opportunity to network and share resources with your Chamber peers.&nbsp\;<br />\n<br />\n<strong>Make sure to have your video on - the purpose is for us to make connections with our peers while sharing resources.&nbsp\;</strong> &nbsp\;<br />\n<br />\nRegister in advance to receive the zoom meeting link.&nbsp\;<br />\n<br />\nSend agenda requests to melissa@nvcoc.com.&nbsp\;<br />\n<br />\nAgenda (thus far):\n<ul>\n	<li>&nbsp\;</li>\n</ul>\n
LOCATION:ZOOM into this meeting from the comfort of your office (or home - we might be jealous but we will not judge!) Video and audio required.
UID:e.2272.1165
SEQUENCE:3
DTSTAMP:20260420T112904Z
URL:http://business.macce.org/events/details/chamber-exchange-03-28-2022-1165
END:VEVENT

END:VCALENDAR
