BEGIN:VCALENDAR
VERSION:2.0
PRODID:-//ChamberMaster//Event Calendar 2.0//EN
METHOD:PUBLISH
X-PUBLISHED-TTL:P3D
REFRESH-INTERVAL:P3D
CALSCALE:GREGORIAN
BEGIN:VEVENT
DTSTART:20200909T140000Z
DTEND:20200909T150000Z
X-MICROSOFT-CDO-ALLDAYEVENT:FALSE
SUMMARY:Chamber Exchange
DESCRIPTION:Chamber Exchange (formerly MAMD) is an opportunity to network and share resources with your Chamber peers. \n\n\n\nMake sure to have your video ready - no video = no join.  \n\n\n\nRegister in advance to receive the zoom meeting link. \n\n\n\nSend agenda requests to melissa@nvcoc.com.
X-ALT-DESC;FMTTYPE=text/html:Chamber Exchange (formerly MAMD) is an opportunity to network and share resources with your Chamber peers.&nbsp\;<br />\n<br />\nMake sure to have your video ready - no video = no join.&nbsp\;&nbsp\;<br />\n<br />\nRegister in advance to receive the zoom meeting link.&nbsp\;<br />\n<br />\nSend agenda requests to melissa@nvcoc.com.&nbsp\;<br />\n&nbsp\;
LOCATION:ZOOM into this meeting from the comfort of your office (or home - we might be jealous but we will not judge!) Video and audio required.
UID:e.2272.1133
SEQUENCE:3
DTSTAMP:20260421T184650Z
URL:http://business.macce.org/events/details/chamber-exchange-1133
END:VEVENT

END:VCALENDAR
