BEGIN:VCALENDAR
VERSION:2.0
PRODID:-//ChamberMaster//Event Calendar 2.0//EN
METHOD:PUBLISH
X-PUBLISHED-TTL:P3D
REFRESH-INTERVAL:P3D
CALSCALE:GREGORIAN
BEGIN:VEVENT
DTSTART:20181210T160000Z
DTEND:20181210T200000Z
X-MICROSOFT-CDO-ALLDAYEVENT:FALSE
SUMMARY:Chamber Exchange
DESCRIPTION:Chamber Exchange (formerly MAMD) is an opportunity to network and share resources with your Chamber peers.  We meet quarterly at various locations throughout the Commonwealth (interested in hosting?  Be an active participant and connect with Melissa).  \n\n\n\nAgenda to follow\n\n(send agenda requests to melissa@nvcoc.com)
X-ALT-DESC;FMTTYPE=text/html:<strong>Chamber Exchange (formerly MAMD) is an opportunity to network and share resources with your Chamber peers.&nbsp\; We meet quarterly at various locations throughout the Commonwealth (interested in hosting?&nbsp\; Be an active participant and connect with Melissa).&nbsp\;&nbsp\;</strong><br />\n<br />\nAgenda to follow<br />\n(send agenda requests to melissa@nvcoc.com)
LOCATION:Worcester Chamber of Commerce NEW OFFICES 311 Main Street\, Suite 200 Worcester MA
UID:e.2272.75
SEQUENCE:3
DTSTAMP:20260423T072854Z
URL:http://business.macce.org/events/details/chamber-exchange-75
END:VEVENT

END:VCALENDAR
