BEGIN:VCALENDAR
VERSION:2.0
PRODID:-//ChamberMaster//Event Calendar 2.0//EN
METHOD:PUBLISH
X-PUBLISHED-TTL:P3D
REFRESH-INTERVAL:P3D
CALSCALE:GREGORIAN
BEGIN:VEVENT
DTSTART:20200330T180000Z
DTEND:20200330T190000Z
X-MICROSOFT-CDO-ALLDAYEVENT:FALSE
SUMMARY:Chamber Exchange Video Conference
DESCRIPTION:Change of plans!\n\n \n\nOur April 13th Chamber Exchange meeting will be moved (per request) to Monday March 30th at 2pm\n\nThis is a video conference - No voyeurs allowed  \n\nJoin URL:  https://zoom.us/j/323644029\n\n\n\n\n\nAgenda (send agenda requests to Melissa@nvcoc.com) - \n\n	How is your chamber helping your members through this?\n	How have you pivoted as an organization?\n	Best practices during this time...Such as...how to handle dues renewals during this time of crisis? Messaging?\n	Monthly billers?\n	Ideas for supporting our small retailers.\n	Certificate of origin while the chamber office is closed.\n	How to support our nonprofits...dues?\n	New members - what are you saying to people who are inquiring...if any are
X-ALT-DESC;FMTTYPE=text/html:<span style="background-image:initial\;background-position:initial\;background-size:initial\;background-repeat:initial\;background-attachment:initial\;background-origin:initial\;background-clip:initial\;"><span style="color:#444444\;"><span style="font-family:arial\,sans-serif\;"><span style="font-size:10.5pt\;">Change of plans!</span></span></span></span><br />\n&nbsp\;<br />\n<span style="color:#444444\;"><span style="font-family:arial\,sans-serif\;"><span style="font-size:10.5pt\;">Our April 13th Chamber Exchange meeting will be moved (per request) to Monday March 30th at 2pm</span></span></span><br />\n<span style="background-image:initial\;background-position:initial\;background-size:initial\;background-repeat:initial\;background-attachment:initial\;background-origin:initial\;background-clip:initial\;"><span style="color:#444444\;"><span style="font-family:arial\,sans-serif\;"><span style="font-size:10.5pt\;">This is a video conference - No voyeurs allowed&nbsp\;</span></span></span></span><span style="border:1pt none windowtext\;padding:0in\;background-image:initial\;background-position:initial\;background-size:initial\;background-repeat:initial\;background-attachment:initial\;background-origin:initial\;background-clip:initial\;"><span style="color:#444444\;"><span style="font-family:segoe ui emoji\,sans-serif\;"><span style="font-size:10.5pt\;"><span style="box-sizing:content-box\;bottom:auto\;content:normal\;empty-cells:show\;font-variant-numeric:inherit\;font-variant-east-asian:inherit\;font-stretch:inherit\;max-height:none\;max-width:none\;min-height:initial\;min-width:initial\;opacity:1\;outline-offset:0px\;resize:none\;text-overflow:clip\;word-break:inherit\;overflow-wrap:inherit\;border-radius:0px\;box-shadow:none\;overflow:visible\;right:auto\;visibility:inherit\;z-index:auto\;">&#128522\;</span></span></span></span></span><br />\nJoin URL: &nbsp\;<a href="https://zoom.us/j/323644029" style="box-sizing:border-box\;overflow-wrap:break-word\;" target="_blank"><span style="background-image:initial\;background-position:initial\;background-size:initial\;background-repeat:initial\;background-attachment:initial\;background-origin:initial\;background-clip:initial\;"><span style="color:#0e71eb\;"><span style="font-family:helvetica\,sans-serif\;"><span style="font-size:10.5pt\;">https://zoom.us/j/323644029</span></span></span></span></a><br />\n<br />\n<br />\n<span style="background-image:initial\;background-position:initial\;background-size:initial\;background-repeat:initial\;background-attachment:initial\;background-origin:initial\;background-clip:initial\;"><span style="color:#444444\;"><span style="font-family:arial\,sans-serif\;"><span style="font-size:10.5pt\;">Agenda (send agenda requests to <a href="mailto:Melissa@nvcoc.com">Melissa@nvcoc.com</a>) - </span></span></span></span>\n<ul>\n	<li>How is your chamber helping your members through this?</li>\n	<li>How have you pivoted as an organization?</li>\n	<li>Best practices during this time...Such as...how to handle dues renewals during this time of crisis? Messaging?</li>\n	<li>Monthly billers?</li>\n	<li>Ideas for supporting our small retailers.</li>\n	<li>Certificate of origin while the chamber office is closed.</li>\n	<li>How to support our nonprofits...dues?</li>\n	<li>New members - what are you saying to people who are inquiring...if any are</li>\n</ul>\n
LOCATION:Zoom meeting
UID:e.2272.1099
SEQUENCE:3
DTSTAMP:20260422T053605Z
URL:http://business.macce.org/events/details/chamber-exchange-video-conference-1099
END:VEVENT

END:VCALENDAR
