BEGIN:VCALENDAR
VERSION:2.0
PRODID:-//ChamberMaster//Event Calendar 2.0//EN
METHOD:PUBLISH
X-PUBLISHED-TTL:P3D
REFRESH-INTERVAL:P3D
CALSCALE:GREGORIAN
BEGIN:VEVENT
DTSTART:20200520T180000Z
DTEND:20200520T190000Z
X-MICROSOFT-CDO-ALLDAYEVENT:FALSE
SUMMARY:Chamber Exchange Zoom Meeting
DESCRIPTION:MACCE Chamber Exchange - \n\nSend your agenda ideas to Melissa@nvcoc.com \n\nPre registered attendees will receive the link via email
X-ALT-DESC;FMTTYPE=text/html:<p><span style="color: rgb(68\, 68\, 68)\; font-family: Arial\, Helvetica\, sans-serif\; font-size: 14px\;">MACCE Chamber Exchange - </span><br />\n<span style="box-sizing: content-box\; bottom: auto\; clear: none\; color: rgb(68\, 68\, 68)\; content: normal\; direction: inherit\; empty-cells: show\; font-variant-numeric: inherit\; font-variant-east-asian: inherit\; font-stretch: inherit\; font-size: 14px\; font-family: &quot\;segoe ui emoji&quot\;\, sans-serif\; left: auto\; line-height: inherit\; margin: 0px\; max-height: none\; max-width: none\; min-height: initial\; min-width: initial\; opacity: 1\; outline-offset: 0px\; overflow: visible\; padding: 0px\; position: static\; resize: none\; right: auto\; table-layout: auto\; text-overflow: clip\; top: auto\; vertical-align: baseline\; visibility: inherit\; word-break: inherit\; overflow-wrap: inherit\; z-index: auto\; background-image: none\; background-position: initial\; background-size: initial\; background-repeat: initial\; background-attachment: initial\; background-origin: initial\; background-clip: initial\; border: none\; border-collapse: separate\; border-radius: 0px\; height: auto\; width: auto\; box-shadow: none\;">Send your agenda ideas to Melissa@nvcoc.com&nbsp\;<br />\nPre registered attendees will receive the link via email</span></p>\n
LOCATION:
UID:e.2272.1113
SEQUENCE:3
DTSTAMP:20260422T015440Z
URL:http://business.macce.org/events/details/chamber-exchange-zoom-meeting-1113
END:VEVENT

END:VCALENDAR
