BEGIN:VCALENDAR
VERSION:2.0
PRODID:-//ChamberMaster//Event Calendar 2.0//EN
METHOD:PUBLISH
X-PUBLISHED-TTL:P3D
REFRESH-INTERVAL:P3D
CALSCALE:GREGORIAN
BEGIN:VEVENT
DTSTART:20200210T160000Z
DTEND:20200210T170000Z
X-MICROSOFT-CDO-ALLDAYEVENT:FALSE
SUMMARY:Chamber Exchange - Zoom Video Conference
DESCRIPTION:Chamber Exchange (formerly MAMD) is an opportunity to network and share resources with your Chamber peers.\n\n\n\nWe meet quarterly at various locations throughout the Commonwealth (interested in hosting?  Be an active participant and connect with Melissa). \n\n\n\nAdditionally - we are scheduling Zoom Video Conferences throughout the year (Video and audio required to participate). \n\n\n\nRegister in advance to receive the zoom meeting link. \n\n\n\nSend agenda requests to melissa@nvcoc.com.
X-ALT-DESC;FMTTYPE=text/html:Chamber Exchange (formerly MAMD) is an opportunity to network and share resources with your Chamber peers.<br />\n<br />\nWe meet quarterly at various locations throughout the Commonwealth (interested in hosting?&nbsp\; Be an active participant and connect with Melissa).&nbsp\;<br />\n<br />\nAdditionally - we are scheduling Zoom Video Conferences throughout the year (Video and audio required to participate).&nbsp\;<br />\n<br />\nRegister in advance to receive the zoom meeting link.&nbsp\;<br />\n<br />\nSend agenda requests to melissa@nvcoc.com.&nbsp\;<br />\n&nbsp\;
LOCATION:ZOOM into this meeting from the comfort of your office (or home - we might be jealous but we will not judge!) Video and audio required.
UID:e.2272.1095
SEQUENCE:3
DTSTAMP:20260422T090847Z
URL:http://business.macce.org/events/details/chamber-exchange-zoom-video-conference-1095
END:VEVENT

END:VCALENDAR
