BEGIN:VCALENDAR
VERSION:2.0
PRODID:-//ChamberMaster//Event Calendar 2.0//EN
METHOD:PUBLISH
X-PUBLISHED-TTL:P3D
REFRESH-INTERVAL:P3D
CALSCALE:GREGORIAN
BEGIN:VEVENT
DTSTART:20201217T190000Z
DTEND:20201217T200000Z
X-MICROSOFT-CDO-ALLDAYEVENT:FALSE
SUMMARY:Chamber Exchange - Zoom Video Conference
DESCRIPTION:Chamber Exchange (formerly MAMD) is an opportunity to network and share resources with your Chamber peers.  Make sure to have your video ready - no video = no join.  \n\n\n\nRegister in advance to receive the zoom meeting link. \n\n\n\nSend agenda requests to melissa@nvcoc.com. \n\n\n\nAgenda (thus far):\n\n	Year end join the chamber messaging for final new member push\n	how are you approaching 2021 sponsor packages (& what do sponsorship packages include)\n	embracing new revenue models & mergers in 2021 (Chris attend event)\n	general read as to how our members are feeling going into the winter?\n	how is everyone doing/feeling overall\n	staff levels (back to normal? holidays?) \n	making money on virtual events\n	getting back dropped members\n	membership initiative for 2021 - whats the ask look like\n	fun idea golf tournaments\n	health insurance plans
X-ALT-DESC;FMTTYPE=text/html:Chamber Exchange (formerly MAMD) is an opportunity to network and share resources with your Chamber peers.&nbsp\; Make sure to have your video ready - no video = no join.&nbsp\;&nbsp\;<br />\n<br />\nRegister in advance to receive the zoom meeting link.&nbsp\;<br />\n<br />\nSend agenda requests to melissa@nvcoc.com.&nbsp\;<br />\n<br />\nAgenda (thus far):\n<ul>\n	<li>Year end join the chamber messaging for final new member push</li>\n	<li>how are you approaching 2021 sponsor packages (&amp\; what do sponsorship packages include)</li>\n	<li>embracing new revenue models &amp\; mergers in 2021 (Chris attend event)</li>\n	<li>general read as to how our members are feeling going into the winter?</li>\n	<li>how is everyone doing/feeling overall</li>\n	<li>staff levels (back to normal? holidays?)&nbsp\;</li>\n	<li>making money on virtual events</li>\n	<li>getting back dropped members</li>\n	<li>membership initiative for 2021 - whats the ask look like</li>\n	<li>fun idea golf tournaments</li>\n	<li>health insurance plans&nbsp\;</li>\n</ul>\n
LOCATION:ZOOM into this meeting from the comfort of your office (or home - we might be jealous but we will not judge!) Video and audio required.
UID:e.2272.1137
SEQUENCE:3
DTSTAMP:20260421T140142Z
URL:http://business.macce.org/events/details/chamber-exchange-zoom-video-conference-1137
END:VEVENT

END:VCALENDAR
