BEGIN:VCALENDAR
VERSION:2.0
PRODID:-//ChamberMaster//Event Calendar 2.0//EN
METHOD:PUBLISH
X-PUBLISHED-TTL:P3D
REFRESH-INTERVAL:P3D
CALSCALE:GREGORIAN
BEGIN:VEVENT
DTSTART:20210115T150000Z
DTEND:20210115T160000Z
X-MICROSOFT-CDO-ALLDAYEVENT:FALSE
SUMMARY:Chamber Exchange - Zoom Video Conference
DESCRIPTION:12/21/2020 - note time changed from 9am to 10am. \n\n\n\nChamber Exchange (formerly MAMD) is an opportunity to network and share resources with your Chamber peers.  Make sure to have your video ready - no video = no join.  \n\n\n\nRegister in advance to receive the zoom meeting link. \n\n\n\nSend agenda requests to melissa@nvcoc.com. \n\n\n\nAgenda (thus far):\n\n	making money on virtual events\n	getting back dropped members\n	membership initiative for 2021 - whats the ask look like\n	fun idea golf tournaments\n	non-event / sponsorship revenue streams - what does your chamber do (ex advertising /other)
X-ALT-DESC;FMTTYPE=text/html:<em><span style="color:#FF0000\;">12/21/2020 - note time changed from 9am to 10am.&nbsp\;</span></em><br />\n<br />\nChamber Exchange (formerly MAMD) is an opportunity to network and share resources with your Chamber peers.&nbsp\; Make sure to have your video ready - no video = no join.&nbsp\;&nbsp\;<br />\n<br />\nRegister in advance to receive the zoom meeting link.&nbsp\;<br />\n<br />\nSend agenda requests to melissa@nvcoc.com.&nbsp\;<br />\n<br />\nAgenda (thus far):\n<ul>\n	<li>making money on virtual events</li>\n	<li>getting back dropped members</li>\n	<li>membership initiative for 2021 - whats the ask look like</li>\n	<li>fun idea golf tournaments</li>\n	<li>non-event / sponsorship revenue streams - what does your chamber do (ex advertising /other)</li>\n</ul>\n
LOCATION:ZOOM into this meeting from the comfort of your office (or home - we might be jealous but we will not judge!) Video and audio required.
UID:e.2272.1138
SEQUENCE:3
DTSTAMP:20260421T121522Z
URL:http://business.macce.org/events/details/chamber-exchange-zoom-video-conference-1138
END:VEVENT

END:VCALENDAR
