BEGIN:VCALENDAR
VERSION:2.0
PRODID:-//ChamberMaster//Event Calendar 2.0//EN
METHOD:PUBLISH
X-PUBLISHED-TTL:P3D
REFRESH-INTERVAL:P3D
CALSCALE:GREGORIAN
BEGIN:VEVENT
DTSTART:20191021T150000Z
DTEND:20191021T160000Z
X-MICROSOFT-CDO-ALLDAYEVENT:FALSE
SUMMARY:Chamber Exchange - Zoom Video Conference
DESCRIPTION:10/17/19 - registration email sent - to join this meeting contact Melissa@nvcoc.com for details.\n\n\n\n\n\n\n\nChamber Exchange (formerly MAMD) is an opportunity to network and share resources with your Chamber peers. \n\n\n\nWe meet quarterly at various locations throughout the Commonwealth (interested in hosting?  Be an active participant and connect with Melissa).  Additionally - we are scheduling Zoom Video Conferences throughout the year (Video and audio required to participate).  \n\n\n\nRegister in advance to receive the zoom meeting link.  \n\n\n\nSend agenda requests to melissa@nvcoc.com.
X-ALT-DESC;FMTTYPE=text/html:<strong><span style="color:#FF0000\;">10/17/19 - registration email sent - to join this meeting contact Melissa@nvcoc.com for details.</span><br />\n<br />\n<br />\n<br />\nChamber Exchange (formerly MAMD) is an opportunity to network and share resources with your Chamber peers.&nbsp\;<br />\n<br />\nWe meet quarterly at various locations throughout the Commonwealth (interested in hosting?&nbsp\; Be an active participant and connect with Melissa).&nbsp\; Additionally - we are scheduling Zoom Video Conferences throughout the year (<span style="color:#0000FF\;">Video and audio required to participate</span>).&nbsp\;&nbsp\;<br />\n<br />\n<span style="color:#0000FF\;">Register in advance to receive the zoom meeting link.&nbsp\;&nbsp\;</span></strong><br />\n<br />\nSend agenda&nbsp\;requests to melissa@nvcoc.com.&nbsp\;&nbsp\;<br />\n&nbsp\;
LOCATION:ZOOM into this meeting from the comfort of your office (or home - we might be jealous but we will not judge!) Video and audio required.
UID:e.2272.91
SEQUENCE:3
DTSTAMP:20260422T143230Z
URL:http://business.macce.org/events/details/chamber-exchange-zoom-video-conference-91
END:VEVENT

END:VCALENDAR
