BEGIN:VCALENDAR
VERSION:2.0
PRODID:-//ChamberMaster//Event Calendar 2.0//EN
METHOD:PUBLISH
X-PUBLISHED-TTL:P3D
REFRESH-INTERVAL:P3D
CALSCALE:GREGORIAN
BEGIN:VEVENT
DTSTART;VALUE=DATE:20161121
DTEND;VALUE=DATE:20161123
TRANSP:TRANSPARENT
X-MICROSOFT-CDO-ALLDAYEVENT:TRUE
SUMMARY:Fall 2016 NEACCE Conference
DESCRIPTION:The New England Association of Chamber of Commerce Executives is proud to present the following speakers at its Fall Conference on Nov. 21-22\, 2016\, at the Jackson Gore Inn in Ludlow\, Vermont:\n\n\n\nJames Brett\, President and CEO of the The New England Council: "Challenges and opportunities for New England."\n\n\n\nSlater Barr\, CEcD\, EDFP\, CEO of Sioux Falls Development Foundation: "The game of economic development - playing to win."\n\n\n\nSal Lupoli\, founder and CEO of Lupoli Companies: "How chambers can be effective economic development partners."\n\n\n\nDoug Marsh\, Principal of Organization Dynamics\, LLC: "The relevancy of Chambers."\n\n\n\nBill Moore\, Principal of Organization Dynamics\, LLC: "Continuous improvement: conducting a self-directed organization review."\n\n\n\nConference registration:\n\nIf you are not a member of the Greater Concord Chamber of Commerce\, please use the NON-MEMBER login. If you have questions about accessing the online registration page\, please call (603) 224-2508.\n\n\n\nRoom reservations:\n\nThe room rate is $95\, plus 9% VT occupancy tax. To reserve a room please call the Jackson Gore Inn at (802) 228-1400\, or visit their website at www.okemo.com.\n\n\n\nPlease mention that you will be attending the NEACCE Conference to be elegible for the group rate. If you reserve online\, use the group code NEACCE.\n\n\n\nThe deadline for reservations is October 19\, 2016.\n\n\n\nThe 2016 NEACCE Conference is generously sponsored by Microsoft\, Chamber Discoveries\, Citslinc\, and Central Holidays.
X-ALT-DESC;FMTTYPE=text/html:The New England Association of Chamber of Commerce Executives is proud to present the following speakers at its Fall Conference on Nov. 21-22\, 2016\, at the Jackson Gore Inn in Ludlow\, Vermont:<br />\n<br />\nJames Brett\, President and CEO of the The New England Council: &quot\;Challenges and opportunities for New England.&quot\;<br />\n<br />\nSlater Barr\, CEcD\, EDFP\, CEO of Sioux Falls Development Foundation: &quot\;The game of economic development - playing to win.&quot\;<br />\n<br />\nSal Lupoli\, founder and CEO of Lupoli Companies: &quot\;How chambers can be effective economic development partners.&quot\;<br />\n<br />\nDoug Marsh\, Principal of Organization Dynamics\, LLC: &quot\;The relevancy of Chambers.&quot\;<br />\n<br />\nBill Moore\, Principal of Organization Dynamics\, LLC: &quot\;Continuous improvement: conducting a self-directed organization review.&quot\;<br />\n<br />\n<strong>Conference registration:</strong><br />\nIf you are not a member of the Greater Concord Chamber of Commerce\, please use the NON-MEMBER login. If you have questions about accessing the online registration page\, please call (603) 224-2508.<br />\n<br />\n<strong>Room reservations:</strong><br />\nThe room rate is $95\, plus 9% VT occupancy tax. To reserve a room please call the Jackson Gore Inn at (802) 228-1400\, or visit their website at www.okemo.com.<br />\n<br />\nPlease mention that you will be attending the NEACCE Conference to be elegible for the group rate. If you reserve online\, use the group code NEACCE.<br />\n<br />\n<em>The deadline for reservations is October 19\, 2016</em>.<br />\n<br />\nThe 2016 NEACCE Conference is generously sponsored by Microsoft\, Chamber Discoveries\, Citslinc\, and Central Holidays.
LOCATION:Jackson Gore Inn 111 Jackson Gore Rd. Ludlow\, Vermont 05149
UID:e.2272.41
SEQUENCE:3
DTSTAMP:20260425T010644Z
URL:http://business.macce.org/events/details/fall-2016-neacce-conference-41
END:VEVENT

END:VCALENDAR
