BEGIN:VCALENDAR
VERSION:2.0
PRODID:-//ChamberMaster//Event Calendar 2.0//EN
METHOD:PUBLISH
X-PUBLISHED-TTL:P3D
REFRESH-INTERVAL:P3D
CALSCALE:GREGORIAN
BEGIN:VEVENT
DTSTART:20200722T200000Z
DTEND:20200722T210000Z
X-MICROSOFT-CDO-ALLDAYEVENT:FALSE
SUMMARY:MACCE CEO's Zoom - 10 Ways to Burn Out
DESCRIPTION:MACCE Chamber Presidents & Executive Directors  \n\n \n\nWe have an agenda! \n\n \n\nWho has been getting burnt out with all these extra hours and stress? \n\n \n\nHave you seen this article {HERE}\, "10 Ways to Definitely Burn Out as a Nonprofit Employee"   I think I can personally check off every one of them as a "been there\, done that"\n\nLet's discuss and share your best tips and tricks on what NOT to do.\n\n \n\nAnd don't forget that cocktail \n\n \n\nRegister for link
X-ALT-DESC;FMTTYPE=text/html:<br />\nMACCE Chamber Presidents &amp\; Executive Directors &ndash\;<br />\n&nbsp\;<br />\nWe have an agenda!&nbsp\;<br />\n&nbsp\;<br />\nWho has been getting burnt out with all these extra hours and stress?&nbsp\;<br />\n&nbsp\;<br />\nHave you seen this article {<a href="https://www.wildapricot.com/blogs/newsblog/2020/06/30/nonprofit-burnout">HERE</a>}\, &ldquo\;10 Ways to Definitely Burn Out as a Nonprofit Employee&rdquo\; &ndash\; I think I can personally check off every one of them as a &ldquo\;been there\, done that&rdquo\;<br />\nLet&rsquo\;s discuss and share your best tips and tricks on what NOT to do.<br />\n&nbsp\;<br />\nAnd don&rsquo\;t forget that cocktail&hellip\;<br />\n&nbsp\;<br />\nRegister for link<br />\n&nbsp\;
LOCATION:Zoom
UID:e.2272.1126
SEQUENCE:3
DTSTAMP:20260421T222132Z
URL:http://business.macce.org/events/details/macce-ceo-s-zoom-10-ways-to-burn-out-1126
END:VEVENT

END:VCALENDAR
