BEGIN:VCALENDAR
VERSION:2.0
PRODID:-//ChamberMaster//Event Calendar 2.0//EN
METHOD:PUBLISH
X-PUBLISHED-TTL:P3D
REFRESH-INTERVAL:P3D
CALSCALE:GREGORIAN
BEGIN:VEVENT
DTSTART:20200813T190000Z
DTEND:20200813T200000Z
X-MICROSOFT-CDO-ALLDAYEVENT:FALSE
SUMMARY:MACCE CEO's Zoom
DESCRIPTION:MACCE Chamber Presidents & Executive Directors  \n\n \n\nBack to no agenda (since we didn't follow it last time)\n\n\n\nJoin us for a cocktail (it's after Noon) and chat.... \n\n\n\nRegister for link
X-ALT-DESC;FMTTYPE=text/html:<br />\nMACCE Chamber Presidents &amp\; Executive Directors &ndash\;<br />\n&nbsp\;<br />\nBack to no agenda (since we didn&#39\;t follow it last time)<br />\n<br />\nJoin us for a cocktail (it&#39\;s after Noon) and chat....&nbsp\;<br />\n<br />\nRegister for link<br />\n&nbsp\;
LOCATION:Zoom
UID:e.2272.1128
SEQUENCE:3
DTSTAMP:20260421T202328Z
URL:http://business.macce.org/events/details/macce-ceo-s-zoom-1128
END:VEVENT

END:VCALENDAR
