BEGIN:VCALENDAR
VERSION:2.0
PRODID:-//ChamberMaster//Event Calendar 2.0//EN
METHOD:PUBLISH
X-PUBLISHED-TTL:P3D
REFRESH-INTERVAL:P3D
CALSCALE:GREGORIAN
BEGIN:VEVENT
DTSTART:20200826T200000Z
DTEND:20200826T210000Z
X-MICROSOFT-CDO-ALLDAYEVENT:FALSE
SUMMARY:MACCE CEO's Zoom
DESCRIPTION:MACCE Chamber Presidents & Executive Directors  \n\n \n\nNo agenda - cocktails required... (fib - we're not checking!)\n\n\n\nRegister for link
X-ALT-DESC;FMTTYPE=text/html:<br />\nMACCE Chamber Presidents &amp\; Executive Directors &ndash\;<br />\n&nbsp\;<br />\nNo agenda - cocktails required... (fib - we&#39\;re not checking!)<br />\n<br />\nRegister for link<br />\n&nbsp\;
LOCATION:Zoom
UID:e.2272.1130
SEQUENCE:3
DTSTAMP:20260421T202327Z
URL:http://business.macce.org/events/details/macce-ceo-s-zoom-1130
END:VEVENT

END:VCALENDAR
