BEGIN:VCALENDAR
VERSION:2.0
PRODID:-//ChamberMaster//Event Calendar 2.0//EN
METHOD:PUBLISH
X-PUBLISHED-TTL:P3D
REFRESH-INTERVAL:P3D
CALSCALE:GREGORIAN
BEGIN:VEVENT
DTSTART:20200915T190000Z
DTEND:20200915T200000Z
X-MICROSOFT-CDO-ALLDAYEVENT:FALSE
SUMMARY:MACCE CEO's Zoom
DESCRIPTION:In response to the Chambers of MA Health Care webinar that took place on September 9th\, we've asked MJM Global Insurance Brokerage to join MACCE members via on September 15th at 3pm to clarify details about the program and answer questions. We hope you can join us. If you can't\, please send any questions or comments to Danielle McFadden at dmcfadden@greaterlowellchamber.org.\n\n \n\nRegister for link
X-ALT-DESC;FMTTYPE=text/html:<span style="color:black\;"><span style="font-size:12.0pt\;">In response to the Chambers of MA Health Care webinar that took place on September 9th\, we&#39\;ve asked&nbsp\;MJM Global Insurance Brokerage to join MACCE members via on September 15th at 3pm to clarify details about the program and answer questions. We hope you can join us. If you can&#39\;t\, please send any questions or comments to Danielle McFadden at <a href="mailto:dmcfadden@greaterlowellchamber.org">dmcfadden@greaterlowellchamber.org</a>.</span></span><br />\n&nbsp\;<br />\nRegister for link<br />\n&nbsp\;
LOCATION:Zoom
UID:e.2272.1134
SEQUENCE:3
DTSTAMP:20260421T184648Z
URL:http://business.macce.org/events/details/macce-ceo-s-zoom-1134
END:VEVENT

END:VCALENDAR
