BEGIN:VCALENDAR
VERSION:2.0
PRODID:-//ChamberMaster//Event Calendar 2.0//EN
METHOD:PUBLISH
X-PUBLISHED-TTL:P3D
REFRESH-INTERVAL:P3D
CALSCALE:GREGORIAN
BEGIN:VEVENT
DTSTART:20210507T180000Z
DTEND:20210507T190000Z
X-MICROSOFT-CDO-ALLDAYEVENT:FALSE
SUMMARY:MACCE CEO's Zoom
DESCRIPTION:Join us for a cocktail following the Keneally call... bring your own of course!\n\nVideo conference - No agenda necessarily   Just an opportunity to stay connected with each other during this stressful time.\n\nRegister for link
X-ALT-DESC;FMTTYPE=text/html:Join us for a cocktail following the Keneally call... bring your own of course!<br />\nVideo conference - No agenda necessarily &ndash\; Just an opportunity to stay connected with each other during this stressful time.<br />\nRegister for link<br />\n&nbsp\;
LOCATION:Zoom
UID:e.2272.1148
SEQUENCE:3
DTSTAMP:20260421T052056Z
URL:http://business.macce.org/events/details/macce-ceo-s-zoom-1148
END:VEVENT

END:VCALENDAR
