BEGIN:VCALENDAR
VERSION:2.0
PRODID:-//ChamberMaster//Event Calendar 2.0//EN
METHOD:PUBLISH
X-PUBLISHED-TTL:P3D
REFRESH-INTERVAL:P3D
CALSCALE:GREGORIAN
BEGIN:VEVENT
DTSTART:20200424T180000Z
DTEND:20200424T190000Z
X-MICROSOFT-CDO-ALLDAYEVENT:FALSE
SUMMARY:MACCE CEO Virtual Meeting
DESCRIPTION:Join us at 2pm - following the weekly call with Secretary Kennealy - for a virtual zoom meeting.  No stalkers.  Pants optional (but please stay seated).   Cocktails required.    \n\nRegister for zoom link
X-ALT-DESC;FMTTYPE=text/html:<br />\nJoin us at 2pm - following the weekly call with Secretary&nbsp\;<span style="font-family:calibri\,sans-serif\;"><span style="font-size:11.0pt\;">Kennealy - for a virtual zoom meeting.&nbsp\; No stalkers.&nbsp\; Pants optional (but please stay seated).&nbsp\; &nbsp\;Cocktails required.&nbsp\; &nbsp\;&nbsp\;<br />\nRegister for zoom link</span></span><br />\n<br />\n&nbsp\;
LOCATION:
UID:e.2272.1107
SEQUENCE:3
DTSTAMP:20260422T033648Z
URL:http://business.macce.org/events/details/macce-ceo-virtual-meeting-1107
END:VEVENT

END:VCALENDAR
