BEGIN:VCALENDAR
VERSION:2.0
PRODID:-//ChamberMaster//Event Calendar 2.0//EN
METHOD:PUBLISH
X-PUBLISHED-TTL:P3D
REFRESH-INTERVAL:P3D
CALSCALE:GREGORIAN
BEGIN:VEVENT
DTSTART:20200417T133000Z
DTEND:20200417T143000Z
X-MICROSOFT-CDO-ALLDAYEVENT:FALSE
SUMMARY:MACCE Chamber Exchange Zoom Meeting
DESCRIPTION:MACCE Chamber Exchange - \n\n\n\nVideo conference time.... No agenda necessarily   Just an opportunity to stay connected with each other during this stressful time.  No voyeurs allowed  \n\n\n\nPre registered attendees will receive the link via email
X-ALT-DESC;FMTTYPE=text/html:<p><span style="color: rgb(68\, 68\, 68)\; font-family: Arial\, Helvetica\, sans-serif\; font-size: 14px\;">MACCE Chamber Exchange - </span><br />\n<br />\n<span style="color: rgb(68\, 68\, 68)\; font-family: Arial\, Helvetica\, sans-serif\; font-size: 14px\;">Video conference time.... No agenda necessarily &ndash\; Just an opportunity to stay connected with each other during this stressful time.&nbsp\; No voyeurs allowed&nbsp\;</span><span style="box-sizing: content-box\; bottom: auto\; clear: none\; color: rgb(68\, 68\, 68)\; content: normal\; direction: inherit\; empty-cells: show\; font-variant-numeric: inherit\; font-variant-east-asian: inherit\; font-stretch: inherit\; font-size: 14px\; font-family: &quot\;segoe ui emoji&quot\;\, sans-serif\; left: auto\; line-height: inherit\; margin: 0px\; max-height: none\; max-width: none\; min-height: initial\; min-width: initial\; opacity: 1\; outline-offset: 0px\; overflow: visible\; padding: 0px\; position: static\; resize: none\; right: auto\; table-layout: auto\; text-overflow: clip\; top: auto\; vertical-align: baseline\; visibility: inherit\; word-break: inherit\; overflow-wrap: inherit\; z-index: auto\; background-image: none\; background-position: initial\; background-size: initial\; background-repeat: initial\; background-attachment: initial\; background-origin: initial\; background-clip: initial\; border: none\; border-collapse: separate\; border-radius: 0px\; height: auto\; width: auto\; box-shadow: none\;">&#128522\;<br />\n<br />\nPre registered attendees will receive the link via email</span></p>\n
LOCATION:
UID:e.2272.1105
SEQUENCE:3
DTSTAMP:20260422T033645Z
URL:http://business.macce.org/events/details/macce-chamber-exchange-zoom-meeting-1105
END:VEVENT

END:VCALENDAR
