BEGIN:VCALENDAR
VERSION:2.0
PRODID:-//ChamberMaster//Event Calendar 2.0//EN
METHOD:PUBLISH
X-PUBLISHED-TTL:P3D
REFRESH-INTERVAL:P3D
CALSCALE:GREGORIAN
BEGIN:VEVENT
DTSTART:20160205T133000Z
DTEND:20160205T163000Z
X-MICROSOFT-CDO-ALLDAYEVENT:FALSE
SUMMARY:MACCE Council and Board Meeting - 02/05/2016
DESCRIPTION:The MACCE Council meeting will begin at 8:30 AM with the Board meeting to follow at 10:00 AM.\n\n\n\nThe guest speakers for the Council meeting will include Jon Sorenson\, President of JFS Energy Advisors and Tony Buxton\, Chair of the Energy and Utilities Practice Group\, Preti Flaherty LLP.
X-ALT-DESC;FMTTYPE=text/html:<span style="line-height: 20.8px\;">The&nbsp\;</span>MACCE<span style="line-height: 20.8px\;">&nbsp\;Council meeting will begin at 8:30 AM with the Board meeting to follow at 10:00 AM.</span><br />\n<br />\nThe guest speakers for the Council meeting will include Jon Sorenson\, President of JFS Energy Advisors and Tony Buxton\, Chair of the Energy and Utilities Practice Group\, Preti Flaherty LLP.<br />\n&nbsp\;
LOCATION:Embassy Suites: 123 Boston Post Road West (Route 20 West) Marlborough\, MA
UID:e.2272.25
SEQUENCE:3
DTSTAMP:20260425T152434Z
URL:http://business.macce.org/events/details/macce-council-and-board-meeting-02-05-2016-02-05-2016-25
END:VEVENT

END:VCALENDAR
