BEGIN:VCALENDAR
VERSION:2.0
PRODID:-//ChamberMaster//Event Calendar 2.0//EN
METHOD:PUBLISH
X-PUBLISHED-TTL:P3D
REFRESH-INTERVAL:P3D
CALSCALE:GREGORIAN
BEGIN:VEVENT
DTSTART:20190104T133000Z
DTEND:20190104T150000Z
X-MICROSOFT-CDO-ALLDAYEVENT:FALSE
SUMMARY:MACCE Council Meeting 01/04/2019
DESCRIPTION:Guest Speaker:\n\nThe next MACCE Council meeting will feature two important presentations:\n\n \n\nRepresentative's from the Massachusetts Employer Health Coalition which aims to address the challenge of avoidable Emergency Department visits by aligning employer interests and efforts with other like-minded stakeholders\, such as hospitals\, health care providers\, health insurance plans\, labor unions\, community organizations\, and government. \n\n \n\nAnd:\n\nBruce Stebbins\, commissioner from the Mass Gaming Commission\, as well as their purchasing staff on the topic of small business opportunities to be part of the supply chain for casino's.
X-ALT-DESC;FMTTYPE=text/html:<div style="color: white\;">\n<div background-color:="" century="" font-size:="" style="color: rgb(96\, 109\, 120)\; font-family: " white-space:=""><span style="font-size:16px\;"><span style="font-family:century gothic\,sans-serif\;"><span style="color:#000000\;">Guest Speaker:</span></span></span><br />\n<span style="color:#2473AF\;"><span style="font-family:century gothic\,sans-serif\;"><span style="font-size:12.0pt\;">The next MACCE Council meeting will feature two important presentations:</span></span></span><br />\n&nbsp\;<br />\n<span style="color:#2473AF\;"><span style="font-family:century gothic\,sans-serif\;"><span style="font-size:12.0pt\;">Representative&#39\;s from the <strong>Massachusetts Employer Health Coalition </strong>which aims to address the challenge of avoidable Emergency Department visits by aligning employer interests and efforts with other like-minded stakeholders\, such as hospitals\, health care providers\, health insurance plans\, labor unions\, community organizations\, and government. </span></span></span><br />\n&nbsp\;<br />\n<span style="color:#2473AF\;"><span style="font-family:century gothic\,sans-serif\;"><span style="font-size:12.0pt\;">And:</span></span></span><br />\n<span style="color:#2473AF\;"><span style="font-family:century gothic\,sans-serif\;"><span style="font-size:12.0pt\;">Bruce Stebbins\, commissioner from the <strong>Mass Gaming Commission\,</strong> as well as their purchasing staff on the topic of small business opportunities to be part of the supply chain for casino&#39\;s.</span></span></span>&nbsp\;<br />\n&nbsp\;</div>\n</div>\n
LOCATION:(Please note - new location. This is across the street from the Embassy Suites which is undergoing renovations) Apex Entertainment Center 21 Apex Drive\, Marlborough
UID:e.2272.78
SEQUENCE:3
DTSTAMP:20260423T055610Z
URL:http://business.macce.org/events/details/macce-council-meeting-01-04-2019-78
END:VEVENT

END:VCALENDAR
