BEGIN:VCALENDAR
VERSION:2.0
PRODID:-//ChamberMaster//Event Calendar 2.0//EN
METHOD:PUBLISH
X-PUBLISHED-TTL:P3D
REFRESH-INTERVAL:P3D
CALSCALE:GREGORIAN
BEGIN:VEVENT
DTSTART:20170106T133000Z
DTEND:20170106T150000Z
X-MICROSOFT-CDO-ALLDAYEVENT:FALSE
SUMMARY:MACCE Council Meeting - 01/06/2017
DESCRIPTION:
X-ALT-DESC;FMTTYPE=text/html:
LOCATION:Embassy Suites 123 Boston Post Road West (Route 20 West)
UID:e.2272.43
SEQUENCE:3
DTSTAMP:20260424T214323Z
URL:http://business.macce.org/events/details/macce-council-meeting-01-06-2017-43
END:VEVENT

END:VCALENDAR
