BEGIN:VCALENDAR
VERSION:2.0
PRODID:-//ChamberMaster//Event Calendar 2.0//EN
METHOD:PUBLISH
X-PUBLISHED-TTL:P3D
REFRESH-INTERVAL:P3D
CALSCALE:GREGORIAN
BEGIN:VEVENT
DTSTART:20170203T133000Z
DTEND:20170203T150000Z
X-MICROSOFT-CDO-ALLDAYEVENT:FALSE
SUMMARY:MACCE Council Meeting - 02/03/2017
DESCRIPTION:Jon Hurst of the Retailers Association of Massachusetts (RAM) will be the guest speaker. Jon will discuss many of the anti-business bills that will be introduced during the upcoming Legislative Session and their potential impact on our members. He will also discuss RAM's Dark Storefront Campaign.
X-ALT-DESC;FMTTYPE=text/html:Jon Hurst of the Retailers Association of Massachusetts (RAM) will be the guest speaker. Jon will discuss many of the anti-business bills that will be introduced during the upcoming Legislative Session and their potential impact on our members. He will also discuss RAM&#39\;s Dark Storefront Campaign.
LOCATION:Embassy Suites 123 Boston Post Road West (Route 20 West) Marlborough\, MA
UID:e.2272.44
SEQUENCE:3
DTSTAMP:20260424T202001Z
URL:http://business.macce.org/events/details/macce-council-meeting-02-03-2017-44
END:VEVENT

END:VCALENDAR
