BEGIN:VCALENDAR
VERSION:2.0
PRODID:-//ChamberMaster//Event Calendar 2.0//EN
METHOD:PUBLISH
X-PUBLISHED-TTL:P3D
REFRESH-INTERVAL:P3D
CALSCALE:GREGORIAN
BEGIN:VEVENT
DTSTART:20180202T133000Z
DTEND:20180202T150000Z
X-MICROSOFT-CDO-ALLDAYEVENT:FALSE
SUMMARY:MACCE Council Meeting 02/2/2018
DESCRIPTION:Our guest speaker is Lieutenant Governor\, Karyn Polito.\n\nMore details soon to come.
X-ALT-DESC;FMTTYPE=text/html:Our guest speaker is Lieutenant Governor\, Karyn Polito.<br />\nMore details soon to come.\n<ul>\n	<li style="color:white\;">&nbsp\;</li>\n</ul>\n
LOCATION:Embassy Suites Hotel 123 Boston Post Road West (Route 20 West) Marlborough
UID:e.2272.58
SEQUENCE:3
DTSTAMP:20260424T005653Z
URL:http://business.macce.org/events/details/macce-council-meeting-02-2-2018-58
END:VEVENT

END:VCALENDAR
