BEGIN:VCALENDAR
VERSION:2.0
PRODID:-//ChamberMaster//Event Calendar 2.0//EN
METHOD:PUBLISH
X-PUBLISHED-TTL:P3D
REFRESH-INTERVAL:P3D
CALSCALE:GREGORIAN
BEGIN:VEVENT
DTSTART:20170303T133000Z
DTEND:20170303T150000Z
X-MICROSOFT-CDO-ALLDAYEVENT:FALSE
SUMMARY:MACCE Council Meeting - 03/03/2017
DESCRIPTION:Geoff O'Hara and Steve McAllister from the Eastern Office of the U.S\, Chamber will be the guest speakers for the March meeting. The Eastern office of the U.S. Chamber will update MACCE members on key legislative efforts in Washington\, D.C. that may be of interest to our organizations and members.
X-ALT-DESC;FMTTYPE=text/html:<span style="font-family:arial\;"><span style="font-size: 16px\;">Geoff O&rsquo\;Hara and Steve McAllister from the Eastern Office of the U.S\, Chamber will be the guest speakers for the March meeting. The Eastern office of the U.S. Chamber will update MACCE members on key legislative efforts in Washington\, D.C. that may be of interest to our organizations and members.</span>&nbsp\;&nbsp\;&nbsp\;&nbsp\;&nbsp\;&nbsp\;&nbsp\;&nbsp\;&nbsp\;&nbsp\;&nbsp\;&nbsp\;</span>
LOCATION:Embassy Suites 123 Boston Post Road West (Route 20 West) Marlborough\, MA
UID:e.2272.46
SEQUENCE:3
DTSTAMP:20260424T184709Z
URL:http://business.macce.org/events/details/macce-council-meeting-03-03-2017-46
END:VEVENT

END:VCALENDAR
