BEGIN:VCALENDAR
VERSION:2.0
PRODID:-//ChamberMaster//Event Calendar 2.0//EN
METHOD:PUBLISH
X-PUBLISHED-TTL:P3D
REFRESH-INTERVAL:P3D
CALSCALE:GREGORIAN
BEGIN:VEVENT
DTSTART:20160304T133000Z
DTEND:20160304T150000Z
X-MICROSOFT-CDO-ALLDAYEVENT:FALSE
SUMMARY:MACCE Council Meeting - 03/04/16
DESCRIPTION:
X-ALT-DESC;FMTTYPE=text/html:
LOCATION:Embassy Suites 123 Boston Post Road West (Route 20 West) Malborough\, MA
UID:e.2272.26
SEQUENCE:3
DTSTAMP:20260425T133701Z
URL:http://business.macce.org/events/details/macce-council-meeting-03-04-16-03-04-2016-26
END:VEVENT

END:VCALENDAR
