BEGIN:VCALENDAR
VERSION:2.0
PRODID:-//ChamberMaster//Event Calendar 2.0//EN
METHOD:PUBLISH
X-PUBLISHED-TTL:P3D
REFRESH-INTERVAL:P3D
CALSCALE:GREGORIAN
BEGIN:VEVENT
DTSTART:20150605T123000Z
DTEND:20150605T140000Z
X-MICROSOFT-CDO-ALLDAYEVENT:FALSE
SUMMARY:MACCE Council Meeting - 06/05/2015
DESCRIPTION:Join us at the June MACCE Council meeting as we welcome guest speaker Senate President Rosenberg.
X-ALT-DESC;FMTTYPE=text/html:Join us at the June&nbsp\;MACCE Council meeting as we welcome guest speaker Senate President Rosenberg.<br />\n<br />\n&nbsp\;
LOCATION:Embassy Suites 123 Boston Post Road West (Route 20 West) Marlborough MA
UID:e.2272.8
SEQUENCE:3
DTSTAMP:20260426T030128Z
URL:http://business.macce.org/events/details/macce-council-meeting-06-05-2015-06-05-2015-8
END:VEVENT

END:VCALENDAR
