BEGIN:VCALENDAR
VERSION:2.0
PRODID:-//ChamberMaster//Event Calendar 2.0//EN
METHOD:PUBLISH
X-PUBLISHED-TTL:P3D
REFRESH-INTERVAL:P3D
CALSCALE:GREGORIAN
BEGIN:VEVENT
DTSTART:20180907T123000Z
DTEND:20180907T140000Z
X-MICROSOFT-CDO-ALLDAYEVENT:FALSE
SUMMARY:MACCE Council Meeting 09/07/2018
DESCRIPTION:Plan to join us on September 7th when we welcome C.J. Chapman from Pilgrim Strategies.  Pilgrim Strategies works with the Mass Coalition for Sustainable Energy\, which supports a responsible transition to a renewable energy future that ensures reliability and affordability\, strengthens our economy\, and enhances Massachusetts' position as a leader on climate change.\n\n\n\nMr. Chapman will discuss recent energy initiatives in the Commonwealth and how business leaders can be supportive.
X-ALT-DESC;FMTTYPE=text/html:<div style="color: white\;"><span style="font-size:18px\;"><span style="font-family:arial\;"><span style="color:#000000\;">Plan to join us on September 7th when we welcome C.J. Chapman from Pilgrim Strategies.&nbsp\; Pilgrim Strategies works with the Mass Coalition for Sustainable Energy\, which&nbsp\;<span style="letter-spacing: 0.64px\; background-color: rgb(255\, 255\, 255)\;">supports a responsible transition to a renewable energy future that ensures reliability and affordability\, strengthens our economy\, and enhances Massachusetts&rsquo\; position as a leader on climate change.<br />\n<br />\nMr. Chapman will discuss recent energy initiatives in the Commonwealth and how business leaders can be supportive.</span></span></span></span><br />\n&nbsp\;</div>\n\n<div style="color:white\;">&nbsp\;</div>\n
LOCATION:Embassy Suites Hotel 123 Boston Post Road West (Route 20 West) Marlborough
UID:e.2272.74
SEQUENCE:3
DTSTAMP:20260423T122846Z
URL:http://business.macce.org/events/details/macce-council-meeting-09-07-2018-74
END:VEVENT

END:VCALENDAR
