BEGIN:VCALENDAR
VERSION:2.0
PRODID:-//ChamberMaster//Event Calendar 2.0//EN
METHOD:PUBLISH
X-PUBLISHED-TTL:P3D
REFRESH-INTERVAL:P3D
CALSCALE:GREGORIAN
BEGIN:VEVENT
DTSTART:20160115T133000Z
DTEND:20160115T150000Z
X-MICROSOFT-CDO-ALLDAYEVENT:FALSE
SUMMARY:MACCE Council Meeting - 1/15/16
DESCRIPTION:Guest Speaker: John Hurst\, President of the Retailers Association of Massachusetts (RAM) will discuss the "Just Scheduling" Bill.
X-ALT-DESC;FMTTYPE=text/html:<strong>Guest Speaker:</strong> John Hurst\, President of the Retailers Association of Massachusetts (RAM) will discuss the &quot\;Just Scheduling&quot\; Bill.
LOCATION:Embassy Suites: 123 Boston Post Road West (Route 20 West) Marlborough\, MA
UID:e.2272.22
SEQUENCE:3
DTSTAMP:20260425T165420Z
URL:http://business.macce.org/events/details/macce-council-meeting-1-15-16-01-15-2016-22
END:VEVENT

END:VCALENDAR
