BEGIN:VCALENDAR
VERSION:2.0
PRODID:-//ChamberMaster//Event Calendar 2.0//EN
METHOD:PUBLISH
X-PUBLISHED-TTL:P3D
REFRESH-INTERVAL:P3D
CALSCALE:GREGORIAN
BEGIN:VEVENT
DTSTART:20151002T123000Z
DTEND:20151002T140000Z
X-MICROSOFT-CDO-ALLDAYEVENT:FALSE
SUMMARY:MACCE Council Meeting - 10/02/2015
DESCRIPTION:Guest speaker Joseph Newman\, Director of Government Affairs at National Grid Massachusetts\, will discuss the net metering legislation and the current state of energy and how to best move forward.\n\n\n\nAdditionally\, we ask that all  in attendance brainstorm four or five policy issues that affect your Chamber so that we can come up with three to five topics that MACCE could adopt as priorities in the coming legislative year.
X-ALT-DESC;FMTTYPE=text/html:Guest speaker Joseph Newman\, Director of Government Affairs at National Grid Massachusetts\, will discuss the net metering legislation and the current state of energy and how to best move forward.<br />\n<br />\nAdditionally\, we ask that all&nbsp\; in attendance brainstorm four or five policy issues that affect your Chamber so that we can come up with three to five topics that MACCE could adopt as priorities in the coming legislative year.
LOCATION:Embassy Suites 123 Boston Post Road West (Route 20 West) Marlborough\, MA
UID:e.2272.16
SEQUENCE:3
DTSTAMP:20260425T210026Z
URL:http://business.macce.org/events/details/macce-council-meeting-10-02-2015-10-02-2015-16
END:VEVENT

END:VCALENDAR
