BEGIN:VCALENDAR
VERSION:2.0
PRODID:-//ChamberMaster//Event Calendar 2.0//EN
METHOD:PUBLISH
X-PUBLISHED-TTL:P3D
REFRESH-INTERVAL:P3D
CALSCALE:GREGORIAN
BEGIN:VEVENT
DTSTART:20181005T123000Z
DTEND:20181005T140000Z
X-MICROSOFT-CDO-ALLDAYEVENT:FALSE
SUMMARY:MACCE Council Meeting 10/05/2018
DESCRIPTION:Plan to join us on October 5th when we welcome Chaitra Saunders from the MassHealth Connector for Business as our guest speaker. \n\n \n\nThe Health Connector for Business is a one-stop shopping solution for small businesses and brokers looking for affordable\, high-quality health and dental insurance. \n\n \n\nLearn how your members can access health plans for their business and employees.\n\n\nWe will also hear from United States Senate candidate Geoff Diehl who is the Republican nominee running against Democratic Senator Elizabeth Warren.
X-ALT-DESC;FMTTYPE=text/html:<div style="color: white\;">\n<div style="color: rgb(96\, 109\, 120)\; font-family: &quot\;Century Gothic&quot\;\, Calibri\, Helvetica\, Arial\, sans-serif\; font-size: 16px\; white-space: pre-wrap\; background-color: rgb(255\, 255\, 255)\;"><span style="color: rgb(36\, 71\, 179)\;">Plan to join us on October 5th when we welcome Chaitra Saunders from the MassHealth Connector for Business as our guest speaker.&nbsp\;</span></div>\n\n<div style="color: rgb(96\, 109\, 120)\; font-family: &quot\;Century Gothic&quot\;\, Calibri\, Helvetica\, Arial\, sans-serif\; font-size: 16px\; white-space: pre-wrap\; background-color: rgb(255\, 255\, 255)\;">&nbsp\;</div>\n\n<div style="color: rgb(96\, 109\, 120)\; font-family: &quot\;Century Gothic&quot\;\, Calibri\, Helvetica\, Arial\, sans-serif\; font-size: 16px\; white-space: pre-wrap\; background-color: rgb(255\, 255\, 255)\;"><span style="color: rgb(36\, 71\, 179)\;">The Health Connector for Business is a one-stop shopping solution for small businesses and brokers looking for affordable\, high-quality health and dental insurance. </span></div>\n\n<div style="color: rgb(96\, 109\, 120)\; font-family: &quot\;Century Gothic&quot\;\, Calibri\, Helvetica\, Arial\, sans-serif\; font-size: 16px\; white-space: pre-wrap\; background-color: rgb(255\, 255\, 255)\;">&nbsp\;</div>\n\n<div style="color: rgb(96\, 109\, 120)\; font-family: &quot\;Century Gothic&quot\;\, Calibri\, Helvetica\, Arial\, sans-serif\; font-size: 16px\; white-space: pre-wrap\; background-color: rgb(255\, 255\, 255)\;"><span style="color: rgb(36\, 71\, 179)\;">Learn how your members can access health plans for their business and employees.</span></div>\n<br />\n<span style="color: rgb(36\, 71\, 179)\; font-family: &quot\;Century Gothic&quot\;\, Calibri\, Helvetica\, Arial\, sans-serif\; font-size: 16px\; white-space: pre-wrap\; background-color: rgb(255\, 255\, 255)\;">We will also hear from United States Senate candidate Geoff Diehl who is the Republican nominee running against Democratic Senator Elizabeth Warren.</span></div>\n
LOCATION:Embassy Suites Hotel 123 Boston Post Road West (Route 20 West) Marlborough
UID:e.2272.76
SEQUENCE:3
DTSTAMP:20260423T105322Z
URL:http://business.macce.org/events/details/macce-council-meeting-10-05-2018-76
END:VEVENT

END:VCALENDAR
