BEGIN:VCALENDAR
VERSION:2.0
PRODID:-//ChamberMaster//Event Calendar 2.0//EN
METHOD:PUBLISH
X-PUBLISHED-TTL:P3D
REFRESH-INTERVAL:P3D
CALSCALE:GREGORIAN
BEGIN:VEVENT
DTSTART:20161007T123000Z
DTEND:20161007T140000Z
X-MICROSOFT-CDO-ALLDAYEVENT:FALSE
SUMMARY:MACCE Council Meeting - 10/7/2016
DESCRIPTION:Agenda:  \n\n1. U.S. Representative Joseph P. Kennedy\, III will address the MACCE CEO Group.\n\n2. Questions and Answers.
X-ALT-DESC;FMTTYPE=text/html:<span style="color:#000000\;"><span _mce_style="color: #ffffff\;" style="font-family: &quot\;Palatino Linotype&quot\;\, &quot\;Book Antiqua&quot\;\, Palatino\, &quot\;Times New Roman&quot\;\, Times\, serif\; font-size: 16px\;"><strong>Agenda:</strong></span><span style="font-family: &quot\;Palatino Linotype&quot\;\, &quot\;Book Antiqua&quot\;\, Palatino\, &quot\;Times New Roman&quot\;\, Times\, serif\; font-size: 16px\;">&nbsp\;&nbsp\;</span></span>\n\n<div style="color: rgb(212\, 234\, 249)\; font-family: &quot\;Palatino Linotype&quot\;\, &quot\;Book Antiqua&quot\;\, Palatino\, &quot\;Times New Roman&quot\;\, Times\, serif\; font-size: 16px\;"><span style="color:#000000\;">1. U.S. Representative Joseph P. Kennedy\, III will address the MACCE CEO Group.</span></div>\n\n<div style="color: rgb(212\, 234\, 249)\; font-family: &quot\;Palatino Linotype&quot\;\, &quot\;Book Antiqua&quot\;\, Palatino\, &quot\;Times New Roman&quot\;\, Times\, serif\; font-size: 16px\;"><span style="color:#000000\;">2. Questions and Answers.</span></div>\n
LOCATION:Embassy Suites 123 Boston Post Road West (Route 20 West) Marlborough\, MA
UID:e.2272.34
SEQUENCE:3
DTSTAMP:20260425T025310Z
URL:http://business.macce.org/events/details/macce-council-meeting-10-7-2016-34
END:VEVENT

END:VCALENDAR
