BEGIN:VCALENDAR
VERSION:2.0
PRODID:-//ChamberMaster//Event Calendar 2.0//EN
METHOD:PUBLISH
X-PUBLISHED-TTL:P3D
REFRESH-INTERVAL:P3D
CALSCALE:GREGORIAN
BEGIN:VEVENT
DTSTART:20151106T133000Z
DTEND:20151106T150000Z
X-MICROSOFT-CDO-ALLDAYEVENT:FALSE
SUMMARY:MACCE Council Meeting - 11/06/2015
DESCRIPTION:
X-ALT-DESC;FMTTYPE=text/html:
LOCATION:Embassy Suites: 123 Boston Post Road West (Route 20 West) Marlborough\, MA
UID:e.2272.17
SEQUENCE:3
DTSTAMP:20260425T194718Z
URL:http://business.macce.org/events/details/macce-council-meeting-11-06-2015-11-06-2015-17
END:VEVENT

END:VCALENDAR
