BEGIN:VCALENDAR
VERSION:2.0
PRODID:-//ChamberMaster//Event Calendar 2.0//EN
METHOD:PUBLISH
X-PUBLISHED-TTL:P3D
REFRESH-INTERVAL:P3D
CALSCALE:GREGORIAN
BEGIN:VEVENT
DTSTART:20161104T123000Z
DTEND:20161104T140000Z
X-MICROSOFT-CDO-ALLDAYEVENT:FALSE
SUMMARY:MACCE Council Meeting - 11/4/16
DESCRIPTION:Guest Speaker:\n\nAttorney Christina Lewis\, Partner at Hinckley Allen\, focuses on employment law representation. \n\n \n\nAtty. Lewis will present to the Council of CEOs about the impacts of the new FSLA regulations implemented through the DOL. She will also discuss additional topics such as compliance with the new Massachusetts Pay Equity Law.  \n\n \n\nThere will be a board meeting at 10:00 am.
X-ALT-DESC;FMTTYPE=text/html:<div _mce_style="color: #d4eaf9\;" style="color: rgb(212\, 234\, 249)\; font-family: &quot\;Palatino Linotype&quot\;\, &quot\;Book Antiqua&quot\;\, Palatino\, &quot\;Times New Roman&quot\;\, Times\, serif\; font-size: 16px\;"><span style="color:#000000\;"><span style="font-family:arial\;"><span _mce_style="font-size: 12pt\;" style="font-size: 12pt\;"><strong>Guest Speaker:</strong><br />\nAttorney&nbsp\;Christina Lewis\, Partner at Hinckley Allen\, focuses on employment law representation.&nbsp\;</span></span></span></div>\n\n<div _mce_style="color: #d4eaf9\;" style="color: rgb(212\, 234\, 249)\; font-family: &quot\;Palatino Linotype&quot\;\, &quot\;Book Antiqua&quot\;\, Palatino\, &quot\;Times New Roman&quot\;\, Times\, serif\; font-size: 16px\;">&nbsp\;</div>\n\n<div _mce_style="color: #d4eaf9\;" style="color: rgb(212\, 234\, 249)\; font-family: &quot\;Palatino Linotype&quot\;\, &quot\;Book Antiqua&quot\;\, Palatino\, &quot\;Times New Roman&quot\;\, Times\, serif\; font-size: 16px\;"><span style="color:#000000\;"><span style="font-family:arial\;"><span _mce_style="font-size: 12pt\;" style="font-size: 12pt\;">Atty. Lewis will present to the Council of CEOs about the impacts of the new FSLA regulations implemented through the DOL. She will also discuss additional topics such as compliance with the new Massachusetts Pay Equity Law. &nbsp\;</span></span></span>\n\n<div>&nbsp\;</div>\n\n<div><span style="color:#000000\;"><span style="font-family:arial\;">There will be a board meeting at 10:00 am.</span></span></div>\n</div>\n
LOCATION:Embassy Suites 123 Boston Post Road West (Route 20 West) Marlborough\, MA
UID:e.2272.42
SEQUENCE:3
DTSTAMP:20260425T011551Z
URL:http://business.macce.org/events/details/macce-council-meeting-11-4-16-42
END:VEVENT

END:VCALENDAR
