BEGIN:VCALENDAR
VERSION:2.0
PRODID:-//ChamberMaster//Event Calendar 2.0//EN
METHOD:PUBLISH
X-PUBLISHED-TTL:P3D
REFRESH-INTERVAL:P3D
CALSCALE:GREGORIAN
BEGIN:VEVENT
DTSTART:20181207T133000Z
DTEND:20181207T150000Z
X-MICROSOFT-CDO-ALLDAYEVENT:FALSE
SUMMARY:MACCE Council Meeting 12/07/2018
DESCRIPTION:Guest Speaker:\n\nJay Pateakos\, VP Business Development at MassDevelopment.
X-ALT-DESC;FMTTYPE=text/html:<div style="color: white\;">\n<div style="color: rgb(96\, 109\, 120)\; font-family: &quot\;Century Gothic&quot\;\, Calibri\, Helvetica\, Arial\, sans-serif\; font-size: 16px\; white-space: pre-wrap\; background-color: rgb(255\, 255\, 255)\;"><span style="font-size:16px\;"><span style="font-family:century gothic\,sans-serif\;"><span style="color:#000000\;">Guest Speaker:<br />\nJay Pateakos\, VP Business Development at MassDevelopment</span>.</span></span><br />\n&nbsp\;</div>\n</div>\n
LOCATION:(Please note - new location. This is across the street from the Embassy Suites which is undergoing renovations) Apex Entertainment Center 21 Apex Drive\, Marlborough
UID:e.2272.77
SEQUENCE:3
DTSTAMP:20260423T073032Z
URL:http://business.macce.org/events/details/macce-council-meeting-12-07-2018-77
END:VEVENT

END:VCALENDAR
