BEGIN:VCALENDAR
VERSION:2.0
PRODID:-//ChamberMaster//Event Calendar 2.0//EN
METHOD:PUBLISH
X-PUBLISHED-TTL:P3D
REFRESH-INTERVAL:P3D
CALSCALE:GREGORIAN
BEGIN:VEVENT
DTSTART:20170505T123000Z
DTEND:20170505T140000Z
X-MICROSOFT-CDO-ALLDAYEVENT:FALSE
SUMMARY:MACCE Council Meeting - 5/5/2017
DESCRIPTION:Guest Speaker:\n\nFran ois-Laurent Nivaud\, Executive Director of the Massachusetts Office of Travel & Tourism (MOTT)\nA.        Presentation about the State of Tourism in Massachusetts and the current priorities of the Massachusetts Office of Travel & Tourism (MOTT).\n\nB.        Discussion on how chambers and MOTT can coordinate with one another.\n\nC.        Q & A
X-ALT-DESC;FMTTYPE=text/html:<h4 style="margin-left:9.0pt\;text-indent:-9.0pt\;line-height:normal\;"><strong>Guest Speaker:<br />\nFran&ccedil\;ois-Laurent Nivaud\,</strong> <strong>Executive Director of the Massachusetts Office of Travel &amp\; Tourism (MOTT)</strong></h4>\n<span style="font-family:times new roman\,serif\;"><span style="font-size:12.0pt\;">A. &nbsp\;&nbsp\;&nbsp\;&nbsp\;&nbsp\;&nbsp\; Presentation about the State of Tourism in Massachusetts and the current priorities of the Massachusetts Office of Travel &amp\; Tourism (MOTT).</span></span><br />\n<span style="font-family:times new roman\,serif\;"><span style="font-size:12.0pt\;">B. &nbsp\;&nbsp\;&nbsp\;&nbsp\;&nbsp\;&nbsp\; Discussion on how chambers and MOTT can coordinate with one another.</span></span><br />\n<span style="font-family:times new roman\,serif\;"><span style="font-size:12.0pt\;">C. &nbsp\;&nbsp\;&nbsp\;&nbsp\;&nbsp\;&nbsp\; Q &amp\; A &nbsp\;&nbsp\;&nbsp\;&nbsp\;&nbsp\;&nbsp\; &nbsp\; &nbsp\; &nbsp\;&nbsp\;</span></span>
LOCATION:Embassy Suites Hotel\, 123 Boston Post Road West (Route 20 West) Marlborough\, MA
UID:e.2272.48
SEQUENCE:3
DTSTAMP:20260424T154923Z
URL:http://business.macce.org/events/details/macce-council-meeting-5-5-2017-48
END:VEVENT

END:VCALENDAR
