BEGIN:VCALENDAR
VERSION:2.0
PRODID:-//ChamberMaster//Event Calendar 2.0//EN
METHOD:PUBLISH
X-PUBLISHED-TTL:P3D
REFRESH-INTERVAL:P3D
CALSCALE:GREGORIAN
BEGIN:VEVENT
DTSTART:20170908T123000Z
DTEND:20170908T140000Z
X-MICROSOFT-CDO-ALLDAYEVENT:FALSE
SUMMARY:MACCE Council Meeting - 9/8/2017 - MEETING CANCELLED
DESCRIPTION:
X-ALT-DESC;FMTTYPE=text/html:
LOCATION:Embassy Suites Hotel 123 Boston Post Road West (Route 20 West) Marlborough
UID:e.2272.51
SEQUENCE:3
DTSTAMP:20260424T091941Z
URL:http://business.macce.org/events/details/macce-council-meeting-9-8-2017-meeting-cancelled-51
END:VEVENT

END:VCALENDAR
