BEGIN:VCALENDAR
VERSION:2.0
PRODID:-//ChamberMaster//Event Calendar 2.0//EN
METHOD:PUBLISH
X-PUBLISHED-TTL:P3D
REFRESH-INTERVAL:P3D
CALSCALE:GREGORIAN
BEGIN:VEVENT
DTSTART:20210322T190000Z
DTEND:20210322T200000Z
X-MICROSOFT-CDO-ALLDAYEVENT:FALSE
SUMMARY:MACCE Guest Speaker Series: Pat McGaughey/Overview of Virtual Strategic Planning
DESCRIPTION:Join us as Pat McGaughey shares an overview of how a strategic planning session works virtually.
X-ALT-DESC;FMTTYPE=text/html:<br />\nJoin us as Pat McGaughey shares an overview of how a strategic planning session works virtually.&nbsp\;&nbsp\;
LOCATION:Virtual Register for Zoom link
UID:e.2272.1144
SEQUENCE:3
DTSTAMP:20260421T092301Z
URL:http://business.macce.org/events/details/macce-guest-speaker-series-pat-mcgaughey-overview-of-virtual-strategic-planning-1144
END:VEVENT

END:VCALENDAR
