BEGIN:VCALENDAR
VERSION:2.0
PRODID:-//ChamberMaster//Event Calendar 2.0//EN
METHOD:PUBLISH
X-PUBLISHED-TTL:P3D
REFRESH-INTERVAL:P3D
CALSCALE:GREGORIAN
BEGIN:VEVENT
DTSTART:20160506T123000Z
DTEND:20160506T140000Z
X-MICROSOFT-CDO-ALLDAYEVENT:FALSE
SUMMARY:MACCE May Council & Board Meeting - 5/6/2016
DESCRIPTION:Guest Speakers & Topics:\n\n \n\nLetitia Kress\, Senior International Trade Specialist\, Boston Office\, U.S. Commercial Service at the U.S. Department of Commerce and International Trade Administration. Ms. Kress will discuss how MA Chambers can serve as an intermediary between the MA U.S. Export Assistance Center and businesses who export\, or want to engage in exporting.\n\n \n\nTony Buxton\, Esq.\, General Counsel and Spokesperson of the Coalition to Lower Energy. With the new metering cap issue now addressed\, Attorney Buxton will discuss and answer questions regarding the energy infrastructure bills before the General Court this legislative session.
X-ALT-DESC;FMTTYPE=text/html:<div _mce_style="color: #ffffff\;" style="color: rgb(255\, 255\, 255)\; font-family: 'Palatino Linotype'\, 'Book Antiqua'\, Palatino\, 'Times New Roman'\, Times\, serif\; font-size: 16px\;"><strong style="color: rgb(0\, 0\, 0)\; line-height: 1.6\;">Guest Speakers &amp\; Topics:</strong></div>\n\n<div _mce_style="color: #ffffff\;" style="color: rgb(255\, 255\, 255)\; font-family: 'Palatino Linotype'\, 'Book Antiqua'\, Palatino\, 'Times New Roman'\, Times\, serif\; font-size: 16px\;">&nbsp\;</div>\n\n<div style="color: rgb(255\, 255\, 255)\; font-family: 'Palatino Linotype'\, 'Book Antiqua'\, Palatino\, 'Times New Roman'\, Times\, serif\; font-size: 16px\;"><strong style="color: rgb(0\, 0\, 0)\; line-height: 1.6\;">Letitia Kress\,</strong><span style="color: rgb(0\, 0\, 0)\; line-height: 1.6\;"> Senior International Trade Specialist\, Boston Office\, U.S. Commercial Service at the U.S. Department of Commerce and International Trade Administration. Ms. </span><span style="color:#000000\;">Kress<span style="line-height: 1.6\;"> </span></span><span style="color: rgb(0\, 0\, 0)\; line-height: 1.6\;">will discuss how MA Chambers can serve as an intermediary between the MA U.S. Export Assistance Center and businesses who export\, or want to engage in exporting.</span></div>\n\n<div style="color: rgb(255\, 255\, 255)\; font-family: 'Palatino Linotype'\, 'Book Antiqua'\, Palatino\, 'Times New Roman'\, Times\, serif\; font-size: 16px\;">&nbsp\;</div>\n\n<div style="color: rgb(255\, 255\, 255)\; font-family: 'Palatino Linotype'\, 'Book Antiqua'\, Palatino\, 'Times New Roman'\, Times\, serif\; font-size: 16px\;"><span style="color:#000000\;"><span _mce_style="color: #d4eaf9\;"><strong>Tony Buxton\, Esq</strong>.\, General Counsel and Spokesperson of the Coalition to Lower Energy. With the new metering cap issue now addressed\, Attorney Buxton will discuss and answer questions regarding the energy infrastructure bills before the General Court this legislative session.</span></span></div>\n
LOCATION:Embassy Suites 123 Boston Post Road West (Route 20 West) Marlborough\, MA
UID:e.2272.33
SEQUENCE:3
DTSTAMP:20260425T101719Z
URL:http://business.macce.org/events/details/macce-may-council-board-meeting-5-6-2016-05-06-2016-33
END:VEVENT

END:VCALENDAR
