BEGIN:VCALENDAR
VERSION:2.0
PRODID:-//ChamberMaster//Event Calendar 2.0//EN
METHOD:PUBLISH
X-PUBLISHED-TTL:P3D
REFRESH-INTERVAL:P3D
CALSCALE:GREGORIAN
BEGIN:VEVENT
DTSTART:20230413T230000Z
DTEND:20230414T010000Z
X-MICROSOFT-CDO-ALLDAYEVENT:FALSE
SUMMARY:MACCE Member Mixer
DESCRIPTION:Join your MACCE colleagues for a Member Mixer the night before the Annual Meeting!
X-ALT-DESC;FMTTYPE=text/html:Join your MACCE colleagues for a Member Mixer the night before the Annual Meeting!&nbsp\;&nbsp\;&nbsp\;&nbsp\;&nbsp\;&nbsp\;&nbsp\;&nbsp\;&nbsp\;&nbsp\;&nbsp\;&nbsp\;&nbsp\;&nbsp\;&nbsp\;&nbsp\;
LOCATION:Coolidge Park Cafe Hotel Northampton 36 King Street\, Northampton
UID:e.2272.1183
SEQUENCE:3
DTSTAMP:20260419T140820Z
URL:http://business.macce.org/events/details/macce-member-mixer-1183
END:VEVENT

END:VCALENDAR
