BEGIN:VCALENDAR
VERSION:2.0
PRODID:-//ChamberMaster//Event Calendar 2.0//EN
METHOD:PUBLISH
X-PUBLISHED-TTL:P3D
REFRESH-INTERVAL:P3D
CALSCALE:GREGORIAN
BEGIN:VEVENT
DTSTART:20200804T180000Z
DTEND:20200804T190000Z
X-MICROSOFT-CDO-ALLDAYEVENT:FALSE
SUMMARY:MACCE Panel: Virtual Events that Generate Income
DESCRIPTION:Join us on Tuesday August 4th from 2pm to 3pm as we will be joined by Tim Murray (Worcester Chamber)\, Robert Schlacter (Marlborough Chamber) and Roy Nascimento (North Central Chamber) to discuss their recent success in hosting virtual meetings that have generated income.  \n\n\n\nRegister for link (zoom link will be in the event email confirmation).  If you can not join - please register and a recording will be shared with you following the event.
X-ALT-DESC;FMTTYPE=text/html:<p><br />\nJoin us on Tuesday August 4th from 2pm to 3pm as we&nbsp\;will be joined by Tim Murray (Worcester Chamber)\, Robert Schlacter (Marlborough Chamber) and Roy Nascimento (North Central Chamber) to discuss their recent success in hosting virtual meetings that have generated income.&nbsp\;&nbsp\;<br />\n<br />\nRegister for link (zoom link will be in the event email confirmation).&nbsp\; If you can not join - please register and a recording will be shared with you following the event.&nbsp\;&nbsp\;<br />\n&nbsp\;</p>\n
LOCATION:Open to all MACCE members Register for link to attend.
UID:e.2272.1127
SEQUENCE:3
DTSTAMP:20260421T202329Z
URL:http://business.macce.org/events/details/macce-panel-virtual-events-that-generate-income-1127
END:VEVENT

END:VCALENDAR
